BEGIN:VCALENDAR
VERSION:2.0
PRODID:-//San Francisco AIDS Foundation - ECPv6.15.17.1//NONSGML v1.0//EN
CALSCALE:GREGORIAN
METHOD:PUBLISH
X-WR-CALNAME:San Francisco AIDS Foundation
X-ORIGINAL-URL:https://www.sfaf.org
X-WR-CALDESC:Events for San Francisco AIDS Foundation
REFRESH-INTERVAL;VALUE=DURATION:PT1H
X-Robots-Tag:noindex
X-PUBLISHED-TTL:PT1H
BEGIN:VTIMEZONE
TZID:America/Los_Angeles
BEGIN:DAYLIGHT
TZOFFSETFROM:-0800
TZOFFSETTO:-0700
TZNAME:PDT
DTSTART:20240310T100000
END:DAYLIGHT
BEGIN:STANDARD
TZOFFSETFROM:-0700
TZOFFSETTO:-0800
TZNAME:PST
DTSTART:20241103T090000
END:STANDARD
BEGIN:DAYLIGHT
TZOFFSETFROM:-0800
TZOFFSETTO:-0700
TZNAME:PDT
DTSTART:20250309T100000
END:DAYLIGHT
BEGIN:STANDARD
TZOFFSETFROM:-0700
TZOFFSETTO:-0800
TZNAME:PST
DTSTART:20251102T090000
END:STANDARD
BEGIN:DAYLIGHT
TZOFFSETFROM:-0800
TZOFFSETTO:-0700
TZNAME:PDT
DTSTART:20260308T100000
END:DAYLIGHT
BEGIN:STANDARD
TZOFFSETFROM:-0700
TZOFFSETTO:-0800
TZNAME:PST
DTSTART:20261101T090000
END:STANDARD
END:VTIMEZONE
BEGIN:VEVENT
DTSTART;TZID=America/Los_Angeles:20251207T130000
DTEND;TZID=America/Los_Angeles:20251207T160000
DTSTAMP:20260422T181436
CREATED:20251125T232217Z
LAST-MODIFIED:20251125T232852Z
UID:10007858-1765112400-1765123200@www.sfaf.org
SUMMARY:Glitter 'n Go - Cosmic Jailbreak: From Bars to Stars!
DESCRIPTION:This month\, members of TransLife will attend the play Cosmic Jailbreak\, at CounterPulse Theater.  \nThis play is about three prisoners who break free from jail and join forces to revisit the lives they left behind\, where song\, movement and video merge to create an ultimate vision of collective freedom. The cast is made up of older adults and adults with disabilities from Curry Senior Center and Ruth’s Table.   \nRSVP is required\, to Ivana at istaiti@sfaf.org or 415-728-3455. \n  \n 
URL:https://www.sfaf.org/event/glitter-n-go-cosmic-jailbreak-from-bars-to-stars/
LOCATION:CounterPulse Theater\, 80 Turk St.\, San Francisco\, United States
CATEGORIES:Social groups
END:VEVENT
END:VCALENDAR