BEGIN:VCALENDAR
VERSION:2.0
PRODID:-//San Francisco AIDS Foundation - ECPv6.15.17.1//NONSGML v1.0//EN
CALSCALE:GREGORIAN
METHOD:PUBLISH
X-WR-CALNAME:San Francisco AIDS Foundation
X-ORIGINAL-URL:https://www.sfaf.org
X-WR-CALDESC:Events for San Francisco AIDS Foundation
REFRESH-INTERVAL;VALUE=DURATION:PT1H
X-Robots-Tag:noindex
X-PUBLISHED-TTL:PT1H
BEGIN:VTIMEZONE
TZID:America/Los_Angeles
BEGIN:DAYLIGHT
TZOFFSETFROM:-0800
TZOFFSETTO:-0700
TZNAME:PDT
DTSTART:20250309T100000
END:DAYLIGHT
BEGIN:STANDARD
TZOFFSETFROM:-0700
TZOFFSETTO:-0800
TZNAME:PST
DTSTART:20251102T090000
END:STANDARD
BEGIN:DAYLIGHT
TZOFFSETFROM:-0800
TZOFFSETTO:-0700
TZNAME:PDT
DTSTART:20260308T100000
END:DAYLIGHT
BEGIN:STANDARD
TZOFFSETFROM:-0700
TZOFFSETTO:-0800
TZNAME:PST
DTSTART:20261101T090000
END:STANDARD
BEGIN:DAYLIGHT
TZOFFSETFROM:-0800
TZOFFSETTO:-0700
TZNAME:PDT
DTSTART:20270314T100000
END:DAYLIGHT
BEGIN:STANDARD
TZOFFSETFROM:-0700
TZOFFSETTO:-0800
TZNAME:PST
DTSTART:20271107T090000
END:STANDARD
END:VTIMEZONE
BEGIN:VEVENT
DTSTART;TZID=America/Los_Angeles:20260615T150000
DTEND;TZID=America/Los_Angeles:20260615T163000
DTSTAMP:20260420T100458
CREATED:20260304T195550Z
LAST-MODIFIED:20260401T204351Z
UID:10008941-1781535600-1781541000@www.sfaf.org
SUMMARY:PROP for All - Contingency Management
DESCRIPTION:PROP for All is SFAF’s contingency management program for people who are interested in reducing\, changing\, re-evaluating\, or stopping their use of stimulants including meth and/or cocaine. \nPROP provides structure\, community\, counseling\, and financial incentives in a 12 week program. \nPROP for All is open to all adults. \nTo attend\, please email tllorence@sfaf.org or call Tomas at 415-487-3104.
URL:https://www.sfaf.org/event/prop-for-all-contingency-management/2026-06-15/
CATEGORIES:Program groups
END:VEVENT
BEGIN:VEVENT
DTSTART;TZID=America/Los_Angeles:20260617T150000
DTEND;TZID=America/Los_Angeles:20260617T163000
DTSTAMP:20260420T100458
CREATED:20260304T195550Z
LAST-MODIFIED:20260401T204351Z
UID:10008942-1781708400-1781713800@www.sfaf.org
SUMMARY:PROP for All - Contingency Management
DESCRIPTION:PROP for All is SFAF’s contingency management program for people who are interested in reducing\, changing\, re-evaluating\, or stopping their use of stimulants including meth and/or cocaine. \nPROP provides structure\, community\, counseling\, and financial incentives in a 12 week program. \nPROP for All is open to all adults. \nTo attend\, please email tllorence@sfaf.org or call Tomas at 415-487-3104.
URL:https://www.sfaf.org/event/prop-for-all-contingency-management/2026-06-17/
CATEGORIES:Program groups
END:VEVENT
BEGIN:VEVENT
DTSTART;TZID=America/Los_Angeles:20260619T150000
DTEND;TZID=America/Los_Angeles:20260619T163000
DTSTAMP:20260420T100458
CREATED:20260304T195550Z
LAST-MODIFIED:20260401T204351Z
UID:10008943-1781881200-1781886600@www.sfaf.org
SUMMARY:PROP for All - Contingency Management
DESCRIPTION:PROP for All is SFAF’s contingency management program for people who are interested in reducing\, changing\, re-evaluating\, or stopping their use of stimulants including meth and/or cocaine. \nPROP provides structure\, community\, counseling\, and financial incentives in a 12 week program. \nPROP for All is open to all adults. \nTo attend\, please email tllorence@sfaf.org or call Tomas at 415-487-3104.
URL:https://www.sfaf.org/event/prop-for-all-contingency-management/2026-06-19/
CATEGORIES:Program groups
END:VEVENT
BEGIN:VEVENT
DTSTART;TZID=America/Los_Angeles:20260622T150000
DTEND;TZID=America/Los_Angeles:20260622T163000
DTSTAMP:20260420T100458
CREATED:20260304T195550Z
LAST-MODIFIED:20260401T204351Z
UID:10008944-1782140400-1782145800@www.sfaf.org
SUMMARY:PROP for All - Contingency Management
DESCRIPTION:PROP for All is SFAF’s contingency management program for people who are interested in reducing\, changing\, re-evaluating\, or stopping their use of stimulants including meth and/or cocaine. \nPROP provides structure\, community\, counseling\, and financial incentives in a 12 week program. \nPROP for All is open to all adults. \nTo attend\, please email tllorence@sfaf.org or call Tomas at 415-487-3104.
URL:https://www.sfaf.org/event/prop-for-all-contingency-management/2026-06-22/
CATEGORIES:Program groups
END:VEVENT
BEGIN:VEVENT
DTSTART;TZID=America/Los_Angeles:20260624T150000
DTEND;TZID=America/Los_Angeles:20260624T163000
DTSTAMP:20260420T100458
CREATED:20260304T195550Z
LAST-MODIFIED:20260401T204351Z
UID:10008945-1782313200-1782318600@www.sfaf.org
SUMMARY:PROP for All - Contingency Management
DESCRIPTION:PROP for All is SFAF’s contingency management program for people who are interested in reducing\, changing\, re-evaluating\, or stopping their use of stimulants including meth and/or cocaine. \nPROP provides structure\, community\, counseling\, and financial incentives in a 12 week program. \nPROP for All is open to all adults. \nTo attend\, please email tllorence@sfaf.org or call Tomas at 415-487-3104.
URL:https://www.sfaf.org/event/prop-for-all-contingency-management/2026-06-24/
CATEGORIES:Program groups
END:VEVENT
BEGIN:VEVENT
DTSTART;TZID=America/Los_Angeles:20260626T150000
DTEND;TZID=America/Los_Angeles:20260626T163000
DTSTAMP:20260420T100458
CREATED:20260304T195550Z
LAST-MODIFIED:20260401T204351Z
UID:10008946-1782486000-1782491400@www.sfaf.org
SUMMARY:PROP for All - Contingency Management
DESCRIPTION:PROP for All is SFAF’s contingency management program for people who are interested in reducing\, changing\, re-evaluating\, or stopping their use of stimulants including meth and/or cocaine. \nPROP provides structure\, community\, counseling\, and financial incentives in a 12 week program. \nPROP for All is open to all adults. \nTo attend\, please email tllorence@sfaf.org or call Tomas at 415-487-3104.
URL:https://www.sfaf.org/event/prop-for-all-contingency-management/2026-06-26/
CATEGORIES:Program groups
END:VEVENT
BEGIN:VEVENT
DTSTART;TZID=America/Los_Angeles:20260629T150000
DTEND;TZID=America/Los_Angeles:20260629T163000
DTSTAMP:20260420T100458
CREATED:20260304T195550Z
LAST-MODIFIED:20260401T204351Z
UID:10008947-1782745200-1782750600@www.sfaf.org
SUMMARY:PROP for All - Contingency Management
DESCRIPTION:PROP for All is SFAF’s contingency management program for people who are interested in reducing\, changing\, re-evaluating\, or stopping their use of stimulants including meth and/or cocaine. \nPROP provides structure\, community\, counseling\, and financial incentives in a 12 week program. \nPROP for All is open to all adults. \nTo attend\, please email tllorence@sfaf.org or call Tomas at 415-487-3104.
URL:https://www.sfaf.org/event/prop-for-all-contingency-management/2026-06-29/
CATEGORIES:Program groups
END:VEVENT
BEGIN:VEVENT
DTSTART;TZID=America/Los_Angeles:20260701T150000
DTEND;TZID=America/Los_Angeles:20260701T163000
DTSTAMP:20260420T100458
CREATED:20260304T195550Z
LAST-MODIFIED:20260401T204351Z
UID:10008948-1782918000-1782923400@www.sfaf.org
SUMMARY:PROP for All - Contingency Management
DESCRIPTION:PROP for All is SFAF’s contingency management program for people who are interested in reducing\, changing\, re-evaluating\, or stopping their use of stimulants including meth and/or cocaine. \nPROP provides structure\, community\, counseling\, and financial incentives in a 12 week program. \nPROP for All is open to all adults. \nTo attend\, please email tllorence@sfaf.org or call Tomas at 415-487-3104.
URL:https://www.sfaf.org/event/prop-for-all-contingency-management/2026-07-01/
CATEGORIES:Program groups
END:VEVENT
END:VCALENDAR