BEGIN:VCALENDAR
VERSION:2.0
PRODID:-//San Francisco AIDS Foundation - ECPv6.15.17.1//NONSGML v1.0//EN
CALSCALE:GREGORIAN
METHOD:PUBLISH
X-WR-CALNAME:San Francisco AIDS Foundation
X-ORIGINAL-URL:https://www.sfaf.org
X-WR-CALDESC:Events for San Francisco AIDS Foundation
REFRESH-INTERVAL;VALUE=DURATION:PT1H
X-Robots-Tag:noindex
X-PUBLISHED-TTL:PT1H
BEGIN:VTIMEZONE
TZID:America/Los_Angeles
BEGIN:DAYLIGHT
TZOFFSETFROM:-0800
TZOFFSETTO:-0700
TZNAME:PDT
DTSTART:20250309T100000
END:DAYLIGHT
BEGIN:STANDARD
TZOFFSETFROM:-0700
TZOFFSETTO:-0800
TZNAME:PST
DTSTART:20251102T090000
END:STANDARD
BEGIN:DAYLIGHT
TZOFFSETFROM:-0800
TZOFFSETTO:-0700
TZNAME:PDT
DTSTART:20260308T100000
END:DAYLIGHT
BEGIN:STANDARD
TZOFFSETFROM:-0700
TZOFFSETTO:-0800
TZNAME:PST
DTSTART:20261101T090000
END:STANDARD
BEGIN:DAYLIGHT
TZOFFSETFROM:-0800
TZOFFSETTO:-0700
TZNAME:PDT
DTSTART:20270314T100000
END:DAYLIGHT
BEGIN:STANDARD
TZOFFSETFROM:-0700
TZOFFSETTO:-0800
TZNAME:PST
DTSTART:20271107T090000
END:STANDARD
END:VTIMEZONE
BEGIN:VEVENT
DTSTART;TZID=America/Los_Angeles:20260128T180000
DTEND;TZID=America/Los_Angeles:20260128T193000
DTSTAMP:20260419T104515
CREATED:20230501T232648Z
LAST-MODIFIED:20260401T204720Z
UID:10008190-1769623200-1769628600@www.sfaf.org
SUMMARY:Abstinence Support Group
DESCRIPTION:For more details\, please refer to the Stonewall Services Schedule.
URL:https://www.sfaf.org/event/abstinence-support-group/2026-01-28/
LOCATION:Calendar Events: Strut\, 470 Castro St\, San Francisco\, CA\, 94114 (Strut)
CATEGORIES:Support groups
GEO:37.76135635376;-122.43520355225
X-APPLE-STRUCTURED-LOCATION;VALUE=URI;X-ADDRESS=Calendar Events: Strut 470 Castro St San Francisco CA 94114 (Strut);X-APPLE-RADIUS=500;X-TITLE=470 Castro St:geo:-122.43520355225,37.76135635376
END:VEVENT
BEGIN:VEVENT
DTSTART;TZID=America/Los_Angeles:20260128T180000
DTEND;TZID=America/Los_Angeles:20260128T193000
DTSTAMP:20260419T104515
CREATED:20230501T231907Z
LAST-MODIFIED:20260401T204652Z
UID:10008194-1769623200-1769628600@www.sfaf.org
SUMMARY:Targeted Abstinence Group
DESCRIPTION:For more details\, please refer to the Stonewall Services Schedule.
URL:https://www.sfaf.org/event/targeted-abstinence-10004270/2026-01-28/
LOCATION:Calendar Events: Strut\, 470 Castro St\, San Francisco\, CA\, 94114 (Strut)
CATEGORIES:Support groups
ATTACH;FMTTYPE=image/jpeg:https://www.sfaf.org/wp-content/uploads/events/calendar-stonewall-abstinence-2024.jpg
GEO:37.76135635376;-122.43520355225
X-APPLE-STRUCTURED-LOCATION;VALUE=URI;X-ADDRESS=Calendar Events: Strut 470 Castro St San Francisco CA 94114 (Strut);X-APPLE-RADIUS=500;X-TITLE=470 Castro St:geo:-122.43520355225,37.76135635376
END:VEVENT
BEGIN:VEVENT
DTSTART;TZID=America/Los_Angeles:20260128T133000
DTEND;TZID=America/Los_Angeles:20260128T153000
DTSTAMP:20260419T104515
CREATED:20240907T201153Z
LAST-MODIFIED:20251003T074853Z
UID:10005870-1769607000-1769614200@www.sfaf.org
SUMMARY:Brothers Who Read – Book Club (In-person & Online)
DESCRIPTION:Check-in at the front desk for access. If you have any questions\, please email bbe@sfaf.org.
URL:https://www.sfaf.org/event/bbe-brothers-who-read-book-club/2026-01-28/
LOCATION:Calendar Events: SFAF Main Office\, 940 Howard Street\, San Francisco\, CA\, 94103 (SFAF Main Office)
CATEGORIES:Social groups
ATTACH;FMTTYPE=image/jpeg:https://www.sfaf.org/wp-content/uploads/events/BBE-2020-Brother-Who-Read-web.jpg
ORGANIZER;CN="Black Brothers Esteem (BBE)":MAILTO:bbe@sfaf.org
END:VEVENT
BEGIN:VEVENT
DTSTART;TZID=America/Los_Angeles:20260128T133000
DTEND;TZID=America/Los_Angeles:20260128T153000
DTSTAMP:20260419T104515
CREATED:20190531T171121Z
LAST-MODIFIED:20260401T204818Z
UID:10008198-1769607000-1769614200@www.sfaf.org
SUMMARY:Damn\, Daddy! - Support Group (Online)
DESCRIPTION:
URL:https://www.sfaf.org/event/damn-daddy-sp-online/2026-01-28/
CATEGORIES:Support groups
ATTACH;FMTTYPE=image/jpeg:https://www.sfaf.org/wp-content/uploads/programs/Damn-Daddy.jpg
END:VEVENT
BEGIN:VEVENT
DTSTART;TZID=America/Los_Angeles:20260127T180000
DTEND;TZID=America/Los_Angeles:20260127T193000
DTSTAMP:20260419T104515
CREATED:20200320T224402Z
LAST-MODIFIED:20260401T204847Z
UID:10008186-1769536800-1769542200@www.sfaf.org
SUMMARY:Emotions & Mindfulness - Support Group (Online)
DESCRIPTION:Come learn and practice mindfulness strategies tailored towards harm reduction and coping with the twists and turns of life. Cultivate self-compassion\, stress management\, and increased awareness of mind and body with a supportive community.
URL:https://www.sfaf.org/event/emotions-mindfulness-support-group-sp-online/2026-01-27/
CATEGORIES:Support groups
ATTACH;FMTTYPE=image/png:https://www.sfaf.org/wp-content/uploads/Stonewall-emotions_and-mindfulness-calendar.png
END:VEVENT
BEGIN:VEVENT
DTSTART;TZID=America/Los_Angeles:20260127T180000
DTEND;TZID=America/Los_Angeles:20260127T190000
DTSTAMP:20260419T104515
CREATED:20260116T190834Z
LAST-MODIFIED:20260117T010420Z
UID:10008229-1769536800-1769540400@www.sfaf.org
SUMMARY:Cycle to Zero - Info Session (Online)
DESCRIPTION:RSVP / Event Details \nHave you been hearing about Cycle to Zero\, San Francisco AIDS Foundation’s new cycling fundraiser and want to get some more information on what it’s about? If you are event-curious then this is the session for you to get all of your questions answered! \nOr are you already signed up and need some guidance on jumpstarting your training\, fundraising\, or have event questions? \nThen please join SFAF Event staff for an overview of our new cycling fundraising\, which will continue the legacy of AIDS/LifeCycle in Northern California. On May 29\, 2026 hundreds of riders and volunteers will ride north to Guerneville and back for an impactful and fun weekend\, while raising money for the programs and services of SFAF. \nWe will do a brief overview of the event\, the different ways to participate\, and then leave plenty of time for all your questions. \nLooking forward to seeing you online on 1/27!
URL:https://www.sfaf.org/event/57383/
LOCATION:Calendar Events: SFAF Main Office\, 940 Howard Street\, San Francisco\, CA\, 94103 (SFAF Main Office)
CATEGORIES:Fundraising events
ATTACH;FMTTYPE=image/jpeg:https://www.sfaf.org/wp-content/uploads/events/Jose-Sanchez-DAY_03_Selects_563-900x630-1.jpg
END:VEVENT
BEGIN:VEVENT
DTSTART;TZID=America/Los_Angeles:20260127T143000
DTEND;TZID=America/Los_Angeles:20260127T160000
DTSTAMP:20260419T104515
CREATED:20241115T042932Z
LAST-MODIFIED:20260401T204620Z
UID:10008180-1769524200-1769529600@www.sfaf.org
SUMMARY:Off Mute - Support Group
DESCRIPTION:For more details\, please refer to the Stonewall Services Schedule.
URL:https://www.sfaf.org/event/off-mute-10004285/2026-01-27/
LOCATION:Calendar Events: SFAF Main Office\, 940 Howard Street\, San Francisco\, CA\, 94103 (SFAF Main Office)
CATEGORIES:Support groups
ATTACH;FMTTYPE=image/png:https://www.sfaf.org/wp-content/uploads/Stonewall-Off-Mute-promo-1200x800-1.png
END:VEVENT
BEGIN:VEVENT
DTSTART;TZID=America/Los_Angeles:20260126T180000
DTEND;TZID=America/Los_Angeles:20260126T193000
DTSTAMP:20260419T104515
CREATED:20200130T001621Z
LAST-MODIFIED:20260401T204751Z
UID:10008174-1769450400-1769455800@www.sfaf.org
SUMMARY:Harm Reduction Skills Group (Online)
DESCRIPTION:
URL:https://www.sfaf.org/event/harm-reduction-skills-group-sp-online/2026-01-26/
CATEGORIES:Support groups
END:VEVENT
BEGIN:VEVENT
DTSTART;TZID=America/Los_Angeles:20260126T143000
DTEND;TZID=America/Los_Angeles:20260126T160000
DTSTAMP:20260419T104515
CREATED:20231115T003006Z
LAST-MODIFIED:20260401T204547Z
UID:10008146-1769437800-1769443200@www.sfaf.org
SUMMARY:Express Yourself - Support Group
DESCRIPTION:For more details\, please refer to the Stonewall Services Schedule.
URL:https://www.sfaf.org/event/express-yourself-10004288/2026-01-26/
LOCATION:Calendar Events: SFAF Main Office\, 940 Howard Street\, San Francisco\, CA\, 94103 (SFAF Main Office)
CATEGORIES:Support groups
ATTACH;FMTTYPE=image/jpeg:https://www.sfaf.org/wp-content/uploads/Stonewall-Express-Yourself-calendar.jpg
END:VEVENT
BEGIN:VEVENT
DTSTART;TZID=America/Los_Angeles:20260124T100000
DTEND;TZID=America/Los_Angeles:20260124T120000
DTSTAMP:20260419T104515
CREATED:20251125T231206Z
LAST-MODIFIED:20251125T231206Z
UID:10007604-1769248800-1769256000@www.sfaf.org
SUMMARY:Community Coffee Social (Elizabeth Taylor 50-Plus Network)
DESCRIPTION:Held every Saturday\, at 10 am\, members and prospective members of the Elizabeth Taylor 50-Plus network gather for coffee and community at a local coffee shop. \nTo join us\, contact us at 50plusnetwork@sfaf.org for more information or call 415-728-3116.
URL:https://www.sfaf.org/event/community-coffee-social-elizabeth-taylor-50-plus-network/2026-01-24/
CATEGORIES:Community events
END:VEVENT
BEGIN:VEVENT
DTSTART;TZID=America/Los_Angeles:20260123T170000
DTEND;TZID=America/Los_Angeles:20260123T200000
DTSTAMP:20260419T104515
CREATED:20251125T171105Z
LAST-MODIFIED:20251125T171105Z
UID:10005798-1769187600-1769198400@www.sfaf.org
SUMMARY:BBE Movie & Game Night
DESCRIPTION:For details\, please email bbe@sfaf.org.
URL:https://www.sfaf.org/event/bbe-movie-game-night-10004211-2/
LOCATION:Calendar Events: SFAF Main Office\, 940 Howard Street\, San Francisco\, CA\, 94103 (SFAF Main Office)
CATEGORIES:Social groups
ATTACH;FMTTYPE=image/jpeg:https://www.sfaf.org/wp-content/uploads/events/calendar-BBE-Game-Night-fy24.jpg
ORGANIZER;CN="Black Brothers Esteem (BBE)":MAILTO:bbe@sfaf.org
END:VEVENT
BEGIN:VEVENT
DTSTART;TZID=America/Los_Angeles:20260122T180000
DTEND;TZID=America/Los_Angeles:20260122T193000
DTSTAMP:20260419T104516
CREATED:20221018T175144Z
LAST-MODIFIED:20260204T022528Z
UID:10008206-1769104800-1769110200@www.sfaf.org
SUMMARY:Trans Substance Use - Support Group
DESCRIPTION:For more details\, please refer to the Stonewall Services Schedule.
URL:https://www.sfaf.org/event/trans-substance-use/2026-01-22/
LOCATION:Calendar Events: Strut\, 470 Castro St\, San Francisco\, CA\, 94114 (Strut)
CATEGORIES:Support groups
ATTACH;FMTTYPE=image/png:https://www.sfaf.org/wp-content/uploads/TransSupportGroup.png
GEO:37.76135635376;-122.43520355225
X-APPLE-STRUCTURED-LOCATION;VALUE=URI;X-ADDRESS=Calendar Events: Strut 470 Castro St San Francisco CA 94114 (Strut);X-APPLE-RADIUS=500;X-TITLE=470 Castro St:geo:-122.43520355225,37.76135635376
END:VEVENT
BEGIN:VEVENT
DTSTART;TZID=America/Los_Angeles:20260122T160000
DTEND;TZID=America/Los_Angeles:20260122T180000
DTSTAMP:20260419T104516
CREATED:20251125T170408Z
LAST-MODIFIED:20251125T170650Z
UID:10005925-1769097600-1769104800@www.sfaf.org
SUMMARY:HUES Soul Sessions - Support Group
DESCRIPTION:To participate\, please contact Ebony Gordon\, at 415-269-6617.
URL:https://www.sfaf.org/event/hues-soul-sessions-support-group-2/2026-01-22/
LOCATION:Calendar Events: SFAF Main Office\, 940 Howard Street\, San Francisco\, CA\, 94103 (SFAF Main Office)
CATEGORIES:Support groups
ATTACH;FMTTYPE=image/jpeg:https://www.sfaf.org/wp-content/uploads/programs/hues-2023-promo-900x630-1.jpg
END:VEVENT
BEGIN:VEVENT
DTSTART;TZID=America/Los_Angeles:20260122T150000
DTEND;TZID=America/Los_Angeles:20260122T170000
DTSTAMP:20260419T104516
CREATED:20251126T205317Z
LAST-MODIFIED:20260218T071920Z
UID:10007885-1769094000-1769101200@www.sfaf.org
SUMMARY:El Grupo de Apoyo Latino
DESCRIPTION:El Grupo de Apoyo Latino de SFAF es un grupo social y educativo que ofrece un espacio abierto\, seguro\, y confidencial para apoyar a la comunidad Latina afectada por el VIH y SIDA. Es un grupo diverso\, donde el respeto es la base para que todos los asistentes puedan expresar libremente sus experiencias\, identidad\, étnicidad\, nacionalidad\, sexualidad\, y creencias religiosas. \nTodas las reuniones son en español y se llevan a cabo en un ambiente positivo\, familiar\, y confidencial. Ven a compartir con nosotros\, estamos seguros que encontrarás apoyo y recibirás información para mejorar tu calidad de vida. \nSFAF ofrece servicios a cualquier persona sin importar su situación migratoria. \nPara mas información sobre El Grupo\, llama al 415-632-9722. \n_____ \nOur support group\, El Grupo\, has been a stable source of family and community for Latinos\, Latinas and their families since the early 1980s. Join us for information about sexual health and harm reduction\, meals and social support\, and help finding health and social services. \nMeetings are in-person at 940 Howard St Group Room A  every Thursday from 3 to 5 pm.
URL:https://www.sfaf.org/event/el-grupo-de-apoyo-latino/2026-01-22/
LOCATION:Calendar Events: SFAF Main Office\, 940 Howard Street\, San Francisco\, CA\, 94103 (SFAF Main Office)
CATEGORIES:Support groups
ATTACH;FMTTYPE=image/jpeg:https://www.sfaf.org/wp-content/uploads/unnamed-file.pages/SFAF2020-8874-900x630-1.jpg
END:VEVENT
BEGIN:VEVENT
DTSTART;TZID=America/Los_Angeles:20260122T123000
DTEND;TZID=America/Los_Angeles:20260122T140000
DTSTAMP:20260419T104516
CREATED:20241212T221907Z
LAST-MODIFIED:20260401T204956Z
UID:10008211-1769085000-1769090400@www.sfaf.org
SUMMARY:El Salón - Grupo de apoyo
DESCRIPTION:Reúnete con nosotros para hablar de tu relación con alcohol y drogas y como usar de manera más saludable. Este será un espacio relajado y libre de juicios para conversar acerca de varios temas que nos afectan incluyendo las relaciones personales\, familia\, inmigración\, cultura y más. Para otros servicios en español por favor llame a Claudia Figallo al 415-487-8013.
URL:https://www.sfaf.org/event/el-salon-10004278/2026-01-22/
LOCATION:Calendar Events: SFAF Main Office\, 940 Howard Street\, San Francisco\, CA\, 94103 (SFAF Main Office)
CATEGORIES:Support groups
ATTACH;FMTTYPE=image/png:https://www.sfaf.org/wp-content/uploads/Stonewall-El-Salon-Latino-2022_1200x800.png
END:VEVENT
BEGIN:VEVENT
DTSTART;TZID=America/Los_Angeles:20260121T180000
DTEND;TZID=America/Los_Angeles:20260121T193000
DTSTAMP:20260419T104516
CREATED:20250113T203628Z
LAST-MODIFIED:20250113T203707Z
UID:10004766-1769018400-1769023800@www.sfaf.org
SUMMARY:50-Plus Wednesday Night Virtual Check-in (Members Only) - Elizabeth Taylor 50-Plus Network
DESCRIPTION:RSVP / Request to join
URL:https://www.sfaf.org/event/50-plus-wednesday-night-virtual-check-in-members-only-elizabeth-taylor-50-plus-network/2026-01-21/
CATEGORIES:Social groups
END:VEVENT
BEGIN:VEVENT
DTSTART;TZID=America/Los_Angeles:20260121T180000
DTEND;TZID=America/Los_Angeles:20260121T193000
DTSTAMP:20260419T104516
CREATED:20231010T183327Z
LAST-MODIFIED:20260401T204932Z
UID:10008201-1769018400-1769023800@www.sfaf.org
SUMMARY:Managed Use Skills - Support Group (Online)
DESCRIPTION:
URL:https://www.sfaf.org/event/managed-use-skills-support-group-sp-online/2026-01-21/
CATEGORIES:Support groups
END:VEVENT
BEGIN:VEVENT
DTSTART;TZID=America/Los_Angeles:20260121T180000
DTEND;TZID=America/Los_Angeles:20260121T193000
DTSTAMP:20260419T104516
CREATED:20230501T232648Z
LAST-MODIFIED:20260401T204720Z
UID:10008189-1769018400-1769023800@www.sfaf.org
SUMMARY:Abstinence Support Group
DESCRIPTION:For more details\, please refer to the Stonewall Services Schedule.
URL:https://www.sfaf.org/event/abstinence-support-group/2026-01-21/
LOCATION:Calendar Events: Strut\, 470 Castro St\, San Francisco\, CA\, 94114 (Strut)
CATEGORIES:Support groups
GEO:37.76135635376;-122.43520355225
X-APPLE-STRUCTURED-LOCATION;VALUE=URI;X-ADDRESS=Calendar Events: Strut 470 Castro St San Francisco CA 94114 (Strut);X-APPLE-RADIUS=500;X-TITLE=470 Castro St:geo:-122.43520355225,37.76135635376
END:VEVENT
BEGIN:VEVENT
DTSTART;TZID=America/Los_Angeles:20260121T180000
DTEND;TZID=America/Los_Angeles:20260121T193000
DTSTAMP:20260419T104516
CREATED:20230501T231907Z
LAST-MODIFIED:20260401T204652Z
UID:10008193-1769018400-1769023800@www.sfaf.org
SUMMARY:Targeted Abstinence Group
DESCRIPTION:For more details\, please refer to the Stonewall Services Schedule.
URL:https://www.sfaf.org/event/targeted-abstinence-10004270/2026-01-21/
LOCATION:Calendar Events: Strut\, 470 Castro St\, San Francisco\, CA\, 94114 (Strut)
CATEGORIES:Support groups
ATTACH;FMTTYPE=image/jpeg:https://www.sfaf.org/wp-content/uploads/events/calendar-stonewall-abstinence-2024.jpg
GEO:37.76135635376;-122.43520355225
X-APPLE-STRUCTURED-LOCATION;VALUE=URI;X-ADDRESS=Calendar Events: Strut 470 Castro St San Francisco CA 94114 (Strut);X-APPLE-RADIUS=500;X-TITLE=470 Castro St:geo:-122.43520355225,37.76135635376
END:VEVENT
BEGIN:VEVENT
DTSTART;TZID=America/Los_Angeles:20260121T133000
DTEND;TZID=America/Los_Angeles:20260121T153000
DTSTAMP:20260419T104516
CREATED:20240907T201153Z
LAST-MODIFIED:20251003T074853Z
UID:10005869-1769002200-1769009400@www.sfaf.org
SUMMARY:Brothers Who Read – Book Club (In-person & Online)
DESCRIPTION:Check-in at the front desk for access. If you have any questions\, please email bbe@sfaf.org.
URL:https://www.sfaf.org/event/bbe-brothers-who-read-book-club/2026-01-21/
LOCATION:Calendar Events: SFAF Main Office\, 940 Howard Street\, San Francisco\, CA\, 94103 (SFAF Main Office)
CATEGORIES:Social groups
ATTACH;FMTTYPE=image/jpeg:https://www.sfaf.org/wp-content/uploads/events/BBE-2020-Brother-Who-Read-web.jpg
ORGANIZER;CN="Black Brothers Esteem (BBE)":MAILTO:bbe@sfaf.org
END:VEVENT
BEGIN:VEVENT
DTSTART;TZID=America/Los_Angeles:20260121T133000
DTEND;TZID=America/Los_Angeles:20260121T153000
DTSTAMP:20260419T104516
CREATED:20190531T171121Z
LAST-MODIFIED:20260401T204818Z
UID:10008197-1769002200-1769009400@www.sfaf.org
SUMMARY:Damn\, Daddy! - Support Group (Online)
DESCRIPTION:
URL:https://www.sfaf.org/event/damn-daddy-sp-online/2026-01-21/
CATEGORIES:Support groups
ATTACH;FMTTYPE=image/jpeg:https://www.sfaf.org/wp-content/uploads/programs/Damn-Daddy.jpg
END:VEVENT
BEGIN:VEVENT
DTSTART;TZID=America/Los_Angeles:20260120T180000
DTEND;TZID=America/Los_Angeles:20260120T193000
DTSTAMP:20260419T104516
CREATED:20200320T224402Z
LAST-MODIFIED:20260401T204847Z
UID:10008185-1768932000-1768937400@www.sfaf.org
SUMMARY:Emotions & Mindfulness - Support Group (Online)
DESCRIPTION:Come learn and practice mindfulness strategies tailored towards harm reduction and coping with the twists and turns of life. Cultivate self-compassion\, stress management\, and increased awareness of mind and body with a supportive community.
URL:https://www.sfaf.org/event/emotions-mindfulness-support-group-sp-online/2026-01-20/
CATEGORIES:Support groups
ATTACH;FMTTYPE=image/png:https://www.sfaf.org/wp-content/uploads/Stonewall-emotions_and-mindfulness-calendar.png
END:VEVENT
BEGIN:VEVENT
DTSTART;TZID=America/Los_Angeles:20260120T143000
DTEND;TZID=America/Los_Angeles:20260120T160000
DTSTAMP:20260419T104516
CREATED:20241115T042932Z
LAST-MODIFIED:20260401T204620Z
UID:10008179-1768919400-1768924800@www.sfaf.org
SUMMARY:Off Mute - Support Group
DESCRIPTION:For more details\, please refer to the Stonewall Services Schedule.
URL:https://www.sfaf.org/event/off-mute-10004285/2026-01-20/
LOCATION:Calendar Events: SFAF Main Office\, 940 Howard Street\, San Francisco\, CA\, 94103 (SFAF Main Office)
CATEGORIES:Support groups
ATTACH;FMTTYPE=image/png:https://www.sfaf.org/wp-content/uploads/Stonewall-Off-Mute-promo-1200x800-1.png
END:VEVENT
BEGIN:VEVENT
DTSTART;VALUE=DATE:20260119
DTEND;VALUE=DATE:20260120
DTSTAMP:20260419T104516
CREATED:20260105T214450Z
LAST-MODIFIED:20260105T214450Z
UID:10008227-1768780800-1768867199@www.sfaf.org
SUMMARY:SFAF Locations Closed - In Observance of Dr. Martin Luther King\, Jr. Day
DESCRIPTION:SFAF locations will be closed on Monday\, January 19\, in observance of Dr. Martin Luther King\, Jr. Day. \nIf you are having a medical emergency\, please call 911.
URL:https://www.sfaf.org/event/sfaf-locations-closed-in-observance-of-dr-martin-luther-king-jr-day/
CATEGORIES:Announcements
END:VEVENT
BEGIN:VEVENT
DTSTART;TZID=America/Los_Angeles:20260117T100000
DTEND;TZID=America/Los_Angeles:20260117T120000
DTSTAMP:20260419T104516
CREATED:20251125T231206Z
LAST-MODIFIED:20251125T231206Z
UID:10007603-1768644000-1768651200@www.sfaf.org
SUMMARY:Community Coffee Social (Elizabeth Taylor 50-Plus Network)
DESCRIPTION:Held every Saturday\, at 10 am\, members and prospective members of the Elizabeth Taylor 50-Plus network gather for coffee and community at a local coffee shop. \nTo join us\, contact us at 50plusnetwork@sfaf.org for more information or call 415-728-3116.
URL:https://www.sfaf.org/event/community-coffee-social-elizabeth-taylor-50-plus-network/2026-01-17/
CATEGORIES:Community events
END:VEVENT
BEGIN:VEVENT
DTSTART;TZID=America/Los_Angeles:20260115T180000
DTEND;TZID=America/Los_Angeles:20260115T193000
DTSTAMP:20260419T104516
CREATED:20221018T175144Z
LAST-MODIFIED:20260204T022528Z
UID:10008205-1768500000-1768505400@www.sfaf.org
SUMMARY:Trans Substance Use - Support Group
DESCRIPTION:For more details\, please refer to the Stonewall Services Schedule.
URL:https://www.sfaf.org/event/trans-substance-use/2026-01-15/
LOCATION:Calendar Events: Strut\, 470 Castro St\, San Francisco\, CA\, 94114 (Strut)
CATEGORIES:Support groups
ATTACH;FMTTYPE=image/png:https://www.sfaf.org/wp-content/uploads/TransSupportGroup.png
GEO:37.76135635376;-122.43520355225
X-APPLE-STRUCTURED-LOCATION;VALUE=URI;X-ADDRESS=Calendar Events: Strut 470 Castro St San Francisco CA 94114 (Strut);X-APPLE-RADIUS=500;X-TITLE=470 Castro St:geo:-122.43520355225,37.76135635376
END:VEVENT
BEGIN:VEVENT
DTSTART;TZID=America/Los_Angeles:20260115T150000
DTEND;TZID=America/Los_Angeles:20260115T170000
DTSTAMP:20260419T104516
CREATED:20251126T205317Z
LAST-MODIFIED:20260218T071920Z
UID:10007884-1768489200-1768496400@www.sfaf.org
SUMMARY:El Grupo de Apoyo Latino
DESCRIPTION:El Grupo de Apoyo Latino de SFAF es un grupo social y educativo que ofrece un espacio abierto\, seguro\, y confidencial para apoyar a la comunidad Latina afectada por el VIH y SIDA. Es un grupo diverso\, donde el respeto es la base para que todos los asistentes puedan expresar libremente sus experiencias\, identidad\, étnicidad\, nacionalidad\, sexualidad\, y creencias religiosas. \nTodas las reuniones son en español y se llevan a cabo en un ambiente positivo\, familiar\, y confidencial. Ven a compartir con nosotros\, estamos seguros que encontrarás apoyo y recibirás información para mejorar tu calidad de vida. \nSFAF ofrece servicios a cualquier persona sin importar su situación migratoria. \nPara mas información sobre El Grupo\, llama al 415-632-9722. \n_____ \nOur support group\, El Grupo\, has been a stable source of family and community for Latinos\, Latinas and their families since the early 1980s. Join us for information about sexual health and harm reduction\, meals and social support\, and help finding health and social services. \nMeetings are in-person at 940 Howard St Group Room A  every Thursday from 3 to 5 pm.
URL:https://www.sfaf.org/event/el-grupo-de-apoyo-latino/2026-01-15/
LOCATION:Calendar Events: SFAF Main Office\, 940 Howard Street\, San Francisco\, CA\, 94103 (SFAF Main Office)
CATEGORIES:Support groups
ATTACH;FMTTYPE=image/jpeg:https://www.sfaf.org/wp-content/uploads/unnamed-file.pages/SFAF2020-8874-900x630-1.jpg
END:VEVENT
BEGIN:VEVENT
DTSTART;TZID=America/Los_Angeles:20260115T123000
DTEND;TZID=America/Los_Angeles:20260115T140000
DTSTAMP:20260419T104516
CREATED:20241212T221907Z
LAST-MODIFIED:20260401T204956Z
UID:10008210-1768480200-1768485600@www.sfaf.org
SUMMARY:El Salón - Grupo de apoyo
DESCRIPTION:Reúnete con nosotros para hablar de tu relación con alcohol y drogas y como usar de manera más saludable. Este será un espacio relajado y libre de juicios para conversar acerca de varios temas que nos afectan incluyendo las relaciones personales\, familia\, inmigración\, cultura y más. Para otros servicios en español por favor llame a Claudia Figallo al 415-487-8013.
URL:https://www.sfaf.org/event/el-salon-10004278/2026-01-15/
LOCATION:Calendar Events: SFAF Main Office\, 940 Howard Street\, San Francisco\, CA\, 94103 (SFAF Main Office)
CATEGORIES:Support groups
ATTACH;FMTTYPE=image/png:https://www.sfaf.org/wp-content/uploads/Stonewall-El-Salon-Latino-2022_1200x800.png
END:VEVENT
BEGIN:VEVENT
DTSTART;TZID=America/Los_Angeles:20260114T180000
DTEND;TZID=America/Los_Angeles:20260114T193000
DTSTAMP:20260419T104516
CREATED:20250113T203628Z
LAST-MODIFIED:20250113T203707Z
UID:10004765-1768413600-1768419000@www.sfaf.org
SUMMARY:50-Plus Wednesday Night Virtual Check-in (Members Only) - Elizabeth Taylor 50-Plus Network
DESCRIPTION:RSVP / Request to join
URL:https://www.sfaf.org/event/50-plus-wednesday-night-virtual-check-in-members-only-elizabeth-taylor-50-plus-network/2026-01-14/
CATEGORIES:Social groups
END:VEVENT
BEGIN:VEVENT
DTSTART;TZID=America/Los_Angeles:20260114T180000
DTEND;TZID=America/Los_Angeles:20260114T193000
DTSTAMP:20260419T104516
CREATED:20231010T183327Z
LAST-MODIFIED:20260401T204932Z
UID:10008200-1768413600-1768419000@www.sfaf.org
SUMMARY:Managed Use Skills - Support Group (Online)
DESCRIPTION:
URL:https://www.sfaf.org/event/managed-use-skills-support-group-sp-online/2026-01-14/
CATEGORIES:Support groups
END:VEVENT
END:VCALENDAR