BEGIN:VCALENDAR
VERSION:2.0
PRODID:-//San Francisco AIDS Foundation - ECPv6.15.17.1//NONSGML v1.0//EN
CALSCALE:GREGORIAN
METHOD:PUBLISH
X-WR-CALNAME:San Francisco AIDS Foundation
X-ORIGINAL-URL:https://www.sfaf.org
X-WR-CALDESC:Events for San Francisco AIDS Foundation
REFRESH-INTERVAL;VALUE=DURATION:PT1H
X-Robots-Tag:noindex
X-PUBLISHED-TTL:PT1H
BEGIN:VTIMEZONE
TZID:America/Los_Angeles
BEGIN:DAYLIGHT
TZOFFSETFROM:-0800
TZOFFSETTO:-0700
TZNAME:PDT
DTSTART:20240310T100000
END:DAYLIGHT
BEGIN:STANDARD
TZOFFSETFROM:-0700
TZOFFSETTO:-0800
TZNAME:PST
DTSTART:20241103T090000
END:STANDARD
BEGIN:DAYLIGHT
TZOFFSETFROM:-0800
TZOFFSETTO:-0700
TZNAME:PDT
DTSTART:20250309T100000
END:DAYLIGHT
BEGIN:STANDARD
TZOFFSETFROM:-0700
TZOFFSETTO:-0800
TZNAME:PST
DTSTART:20251102T090000
END:STANDARD
BEGIN:DAYLIGHT
TZOFFSETFROM:-0800
TZOFFSETTO:-0700
TZNAME:PDT
DTSTART:20260308T100000
END:DAYLIGHT
BEGIN:STANDARD
TZOFFSETFROM:-0700
TZOFFSETTO:-0800
TZNAME:PST
DTSTART:20261101T090000
END:STANDARD
BEGIN:DAYLIGHT
TZOFFSETFROM:-0800
TZOFFSETTO:-0700
TZNAME:PDT
DTSTART:20270314T100000
END:DAYLIGHT
BEGIN:STANDARD
TZOFFSETFROM:-0700
TZOFFSETTO:-0800
TZNAME:PST
DTSTART:20271107T090000
END:STANDARD
END:VTIMEZONE
BEGIN:VEVENT
DTSTART;TZID=America/Los_Angeles:20260309T130000
DTEND;TZID=America/Los_Angeles:20260309T143000
DTSTAMP:20260424T125315
CREATED:20260304T195200Z
LAST-MODIFIED:20260401T205128Z
UID:10009680-1773061200-1773066600@www.sfaf.org
SUMMARY:PROP Contingency Management
DESCRIPTION:PROP is SFAF’s contingency management program for people who are interested in reducing\, changing\, re-evaluating\, or stopping their use of stimulants including meth and/or cocaine.  \nPROP provides structure\, community\, counseling\, and financial incentives in a 12 week program. \nPROP centers gay\, bi and trans men and other men who have sex with men\, and trans women.  \nPlease contact Tyrone Clifford at 415-487-3105 or tclifford@sfaf.org with any questions and/or to enroll. 
URL:https://www.sfaf.org/event/prop-contingency-management/2026-03-09/
CATEGORIES:Program groups,Support groups
END:VEVENT
BEGIN:VEVENT
DTSTART;TZID=America/Los_Angeles:20260306T150000
DTEND;TZID=America/Los_Angeles:20260306T163000
DTSTAMP:20260424T125315
CREATED:20260304T195550Z
LAST-MODIFIED:20260401T204351Z
UID:10008898-1772809200-1772814600@www.sfaf.org
SUMMARY:PROP for All - Contingency Management
DESCRIPTION:PROP for All is SFAF’s contingency management program for people who are interested in reducing\, changing\, re-evaluating\, or stopping their use of stimulants including meth and/or cocaine. \nPROP provides structure\, community\, counseling\, and financial incentives in a 12 week program. \nPROP for All is open to all adults. \nTo attend\, please email tllorence@sfaf.org or call Tomas at 415-487-3104.
URL:https://www.sfaf.org/event/prop-for-all-contingency-management/2026-03-06/
CATEGORIES:Program groups
END:VEVENT
BEGIN:VEVENT
DTSTART;TZID=America/Los_Angeles:20260306T130000
DTEND;TZID=America/Los_Angeles:20260306T143000
DTSTAMP:20260424T125315
CREATED:20260304T195200Z
LAST-MODIFIED:20260401T205128Z
UID:10008637-1772802000-1772807400@www.sfaf.org
SUMMARY:PROP Contingency Management
DESCRIPTION:PROP is SFAF’s contingency management program for people who are interested in reducing\, changing\, re-evaluating\, or stopping their use of stimulants including meth and/or cocaine.  \nPROP provides structure\, community\, counseling\, and financial incentives in a 12 week program. \nPROP centers gay\, bi and trans men and other men who have sex with men\, and trans women.  \nPlease contact Tyrone Clifford at 415-487-3105 or tclifford@sfaf.org with any questions and/or to enroll. 
URL:https://www.sfaf.org/event/prop-contingency-management/2026-03-06/
CATEGORIES:Program groups,Support groups
END:VEVENT
BEGIN:VEVENT
DTSTART;TZID=America/Los_Angeles:20260304T150000
DTEND;TZID=America/Los_Angeles:20260304T163000
DTSTAMP:20260424T125315
CREATED:20260304T195550Z
LAST-MODIFIED:20260401T204351Z
UID:10008897-1772636400-1772641800@www.sfaf.org
SUMMARY:PROP for All - Contingency Management
DESCRIPTION:PROP for All is SFAF’s contingency management program for people who are interested in reducing\, changing\, re-evaluating\, or stopping their use of stimulants including meth and/or cocaine. \nPROP provides structure\, community\, counseling\, and financial incentives in a 12 week program. \nPROP for All is open to all adults. \nTo attend\, please email tllorence@sfaf.org or call Tomas at 415-487-3104.
URL:https://www.sfaf.org/event/prop-for-all-contingency-management/2026-03-04/
CATEGORIES:Program groups
END:VEVENT
BEGIN:VEVENT
DTSTART;TZID=America/Los_Angeles:20260304T130000
DTEND;TZID=America/Los_Angeles:20260304T143000
DTSTAMP:20260424T125315
CREATED:20260304T195200Z
LAST-MODIFIED:20260401T205128Z
UID:10008636-1772629200-1772634600@www.sfaf.org
SUMMARY:PROP Contingency Management
DESCRIPTION:PROP is SFAF’s contingency management program for people who are interested in reducing\, changing\, re-evaluating\, or stopping their use of stimulants including meth and/or cocaine.  \nPROP provides structure\, community\, counseling\, and financial incentives in a 12 week program. \nPROP centers gay\, bi and trans men and other men who have sex with men\, and trans women.  \nPlease contact Tyrone Clifford at 415-487-3105 or tclifford@sfaf.org with any questions and/or to enroll. 
URL:https://www.sfaf.org/event/prop-contingency-management/2026-03-04/
CATEGORIES:Program groups,Support groups
END:VEVENT
BEGIN:VEVENT
DTSTART;TZID=America/Los_Angeles:20260206T180000
DTEND;TZID=America/Los_Angeles:20260206T193000
DTSTAMP:20260424T125315
CREATED:20260129T201547Z
LAST-MODIFIED:20260206T093958Z
UID:10008235-1770400800-1770406200@www.sfaf.org
SUMMARY:Loving in Color: Black Gay Men's Art and HIV Resistance
DESCRIPTION:Join us for a powerful evening honoring National Black HIV/AIDS Awareness Day through the creative voices of Black gay men. This celebration of art and activism will feature poetry\, song\, and film that center love\, resilience\, and togetherness in the face of adversity. \nThe evening includes a special screening of Two Black Boys in Paradise\, a groundbreaking UK stop-motion production that’s making waves on the indie film scene. \nCome together for an unforgettable night of community\, creativity\, and resistance.
URL:https://www.sfaf.org/event/loving-in-color-black-gay-mens-art-and-hiv-resistance/
LOCATION:Calendar Events: Strut\, 470 Castro St\, San Francisco\, CA\, 94114 (Strut)
CATEGORIES:Community events,Program groups,Social groups
ATTACH;FMTTYPE=image/jpeg:https://www.sfaf.org/wp-content/uploads/events/Loving-In-Color-9-1.jpg
GEO:37.76135635376;-122.43520355225
X-APPLE-STRUCTURED-LOCATION;VALUE=URI;X-ADDRESS=Calendar Events: Strut 470 Castro St San Francisco CA 94114 (Strut);X-APPLE-RADIUS=500;X-TITLE=470 Castro St:geo:-122.43520355225,37.76135635376
END:VEVENT
BEGIN:VEVENT
DTSTART;TZID=America/Los_Angeles:20251210T173000
DTEND;TZID=America/Los_Angeles:20251210T203000
DTSTAMP:20260424T125315
CREATED:20251126T175403Z
LAST-MODIFIED:20251126T175403Z
UID:10007860-1765387800-1765398600@www.sfaf.org
SUMMARY:HAN Holiday Party
DESCRIPTION:Join SFAF’s HIV Advocacy Network (HAN) and the Elizabeth Taylor 50+ Network for this year’s Holigay Party! We’ll have food\, good music and holiday vibes to ring in the holiday season. Please note: Doors open at 5:30pm! Alcohol available for purchase. \nFor more info or to join the event\, please sign up for HAN\, or email the Elizabeth Taylor 50-Plus network team at 50PlusNetwork@sfaf.org\, \n 
URL:https://www.sfaf.org/event/han-holiday-party/
CATEGORIES:Program groups,Social groups
END:VEVENT
END:VCALENDAR