BEGIN:VCALENDAR
VERSION:2.0
PRODID:-//San Francisco AIDS Foundation - ECPv6.15.17.1//NONSGML v1.0//EN
CALSCALE:GREGORIAN
METHOD:PUBLISH
X-WR-CALNAME:San Francisco AIDS Foundation
X-ORIGINAL-URL:https://www.sfaf.org
X-WR-CALDESC:Events for San Francisco AIDS Foundation
REFRESH-INTERVAL;VALUE=DURATION:PT1H
X-Robots-Tag:noindex
X-PUBLISHED-TTL:PT1H
BEGIN:VTIMEZONE
TZID:America/Los_Angeles
BEGIN:DAYLIGHT
TZOFFSETFROM:-0800
TZOFFSETTO:-0700
TZNAME:PDT
DTSTART:20260308T100000
END:DAYLIGHT
BEGIN:STANDARD
TZOFFSETFROM:-0700
TZOFFSETTO:-0800
TZNAME:PST
DTSTART:20261101T090000
END:STANDARD
BEGIN:DAYLIGHT
TZOFFSETFROM:-0800
TZOFFSETTO:-0700
TZNAME:PDT
DTSTART:20270314T100000
END:DAYLIGHT
BEGIN:STANDARD
TZOFFSETFROM:-0700
TZOFFSETTO:-0800
TZNAME:PST
DTSTART:20271107T090000
END:STANDARD
BEGIN:DAYLIGHT
TZOFFSETFROM:-0800
TZOFFSETTO:-0700
TZNAME:PDT
DTSTART:20280312T100000
END:DAYLIGHT
BEGIN:STANDARD
TZOFFSETFROM:-0700
TZOFFSETTO:-0800
TZNAME:PST
DTSTART:20281105T090000
END:STANDARD
END:VTIMEZONE
BEGIN:VEVENT
DTSTART;TZID=America/Los_Angeles:20270127T130000
DTEND;TZID=America/Los_Angeles:20270127T150000
DTSTAMP:20260422T043944
CREATED:20260302T225538Z
LAST-MODIFIED:20260302T225727Z
UID:10008537-1801054800-1801062000@www.sfaf.org
SUMMARY:TransLife Drop-In
DESCRIPTION:TransLife empowers and supports group members with whatever they are going through. We understand that life as a trans woman\, trans man\, or gender-fluid individual can be tough. Our group brings a blend of spirituality\, friendship and community to give the support you need and the family you long for. Come join us. \nQuestions? Email Translife@sfaf.org or call 415-487-8090. \nGroup held at 940 Howard St.
URL:https://www.sfaf.org/event/translife-drop-in-2/2027-01-27/
LOCATION:Calendar Events: SFAF Main Office\, 940 Howard Street\, San Francisco\, CA\, 94103 (SFAF Main Office)
CATEGORIES:Community events
END:VEVENT
BEGIN:VEVENT
DTSTART;TZID=America/Los_Angeles:20270130T100000
DTEND;TZID=America/Los_Angeles:20270130T120000
DTSTAMP:20260422T043944
CREATED:20251125T231206Z
LAST-MODIFIED:20251125T231206Z
UID:10007657-1801303200-1801310400@www.sfaf.org
SUMMARY:Community Coffee Social (Elizabeth Taylor 50-Plus Network)
DESCRIPTION:Held every Saturday\, at 10 am\, members and prospective members of the Elizabeth Taylor 50-Plus network gather for coffee and community at a local coffee shop. \nTo join us\, contact us at 50plusnetwork@sfaf.org for more information or call 415-728-3116.
URL:https://www.sfaf.org/event/community-coffee-social-elizabeth-taylor-50-plus-network/2027-01-30/
CATEGORIES:Community events
END:VEVENT
BEGIN:VEVENT
DTSTART;TZID=America/Los_Angeles:20270206T100000
DTEND;TZID=America/Los_Angeles:20270206T120000
DTSTAMP:20260422T043944
CREATED:20251125T231206Z
LAST-MODIFIED:20251125T231206Z
UID:10007658-1801908000-1801915200@www.sfaf.org
SUMMARY:Community Coffee Social (Elizabeth Taylor 50-Plus Network)
DESCRIPTION:Held every Saturday\, at 10 am\, members and prospective members of the Elizabeth Taylor 50-Plus network gather for coffee and community at a local coffee shop. \nTo join us\, contact us at 50plusnetwork@sfaf.org for more information or call 415-728-3116.
URL:https://www.sfaf.org/event/community-coffee-social-elizabeth-taylor-50-plus-network/2027-02-06/
CATEGORIES:Community events
END:VEVENT
BEGIN:VEVENT
DTSTART;TZID=America/Los_Angeles:20270210T130000
DTEND;TZID=America/Los_Angeles:20270210T150000
DTSTAMP:20260422T043944
CREATED:20260302T225538Z
LAST-MODIFIED:20260302T225727Z
UID:10008538-1802264400-1802271600@www.sfaf.org
SUMMARY:TransLife Drop-In
DESCRIPTION:TransLife empowers and supports group members with whatever they are going through. We understand that life as a trans woman\, trans man\, or gender-fluid individual can be tough. Our group brings a blend of spirituality\, friendship and community to give the support you need and the family you long for. Come join us. \nQuestions? Email Translife@sfaf.org or call 415-487-8090. \nGroup held at 940 Howard St.
URL:https://www.sfaf.org/event/translife-drop-in-2/2027-02-10/
LOCATION:Calendar Events: SFAF Main Office\, 940 Howard Street\, San Francisco\, CA\, 94103 (SFAF Main Office)
CATEGORIES:Community events
END:VEVENT
BEGIN:VEVENT
DTSTART;TZID=America/Los_Angeles:20270213T100000
DTEND;TZID=America/Los_Angeles:20270213T120000
DTSTAMP:20260422T043944
CREATED:20251125T231206Z
LAST-MODIFIED:20251125T231206Z
UID:10007659-1802512800-1802520000@www.sfaf.org
SUMMARY:Community Coffee Social (Elizabeth Taylor 50-Plus Network)
DESCRIPTION:Held every Saturday\, at 10 am\, members and prospective members of the Elizabeth Taylor 50-Plus network gather for coffee and community at a local coffee shop. \nTo join us\, contact us at 50plusnetwork@sfaf.org for more information or call 415-728-3116.
URL:https://www.sfaf.org/event/community-coffee-social-elizabeth-taylor-50-plus-network/2027-02-13/
CATEGORIES:Community events
END:VEVENT
BEGIN:VEVENT
DTSTART;TZID=America/Los_Angeles:20270220T100000
DTEND;TZID=America/Los_Angeles:20270220T120000
DTSTAMP:20260422T043944
CREATED:20251125T231206Z
LAST-MODIFIED:20251125T231206Z
UID:10007660-1803117600-1803124800@www.sfaf.org
SUMMARY:Community Coffee Social (Elizabeth Taylor 50-Plus Network)
DESCRIPTION:Held every Saturday\, at 10 am\, members and prospective members of the Elizabeth Taylor 50-Plus network gather for coffee and community at a local coffee shop. \nTo join us\, contact us at 50plusnetwork@sfaf.org for more information or call 415-728-3116.
URL:https://www.sfaf.org/event/community-coffee-social-elizabeth-taylor-50-plus-network/2027-02-20/
CATEGORIES:Community events
END:VEVENT
BEGIN:VEVENT
DTSTART;TZID=America/Los_Angeles:20270224T130000
DTEND;TZID=America/Los_Angeles:20270224T150000
DTSTAMP:20260422T043944
CREATED:20260302T225538Z
LAST-MODIFIED:20260302T225727Z
UID:10008539-1803474000-1803481200@www.sfaf.org
SUMMARY:TransLife Drop-In
DESCRIPTION:TransLife empowers and supports group members with whatever they are going through. We understand that life as a trans woman\, trans man\, or gender-fluid individual can be tough. Our group brings a blend of spirituality\, friendship and community to give the support you need and the family you long for. Come join us. \nQuestions? Email Translife@sfaf.org or call 415-487-8090. \nGroup held at 940 Howard St.
URL:https://www.sfaf.org/event/translife-drop-in-2/2027-02-24/
LOCATION:Calendar Events: SFAF Main Office\, 940 Howard Street\, San Francisco\, CA\, 94103 (SFAF Main Office)
CATEGORIES:Community events
END:VEVENT
BEGIN:VEVENT
DTSTART;TZID=America/Los_Angeles:20270227T100000
DTEND;TZID=America/Los_Angeles:20270227T120000
DTSTAMP:20260422T043944
CREATED:20251125T231206Z
LAST-MODIFIED:20251125T231206Z
UID:10007661-1803722400-1803729600@www.sfaf.org
SUMMARY:Community Coffee Social (Elizabeth Taylor 50-Plus Network)
DESCRIPTION:Held every Saturday\, at 10 am\, members and prospective members of the Elizabeth Taylor 50-Plus network gather for coffee and community at a local coffee shop. \nTo join us\, contact us at 50plusnetwork@sfaf.org for more information or call 415-728-3116.
URL:https://www.sfaf.org/event/community-coffee-social-elizabeth-taylor-50-plus-network/2027-02-27/
CATEGORIES:Community events
END:VEVENT
BEGIN:VEVENT
DTSTART;TZID=America/Los_Angeles:20270306T100000
DTEND;TZID=America/Los_Angeles:20270306T120000
DTSTAMP:20260422T043944
CREATED:20251125T231206Z
LAST-MODIFIED:20251125T231206Z
UID:10007662-1804327200-1804334400@www.sfaf.org
SUMMARY:Community Coffee Social (Elizabeth Taylor 50-Plus Network)
DESCRIPTION:Held every Saturday\, at 10 am\, members and prospective members of the Elizabeth Taylor 50-Plus network gather for coffee and community at a local coffee shop. \nTo join us\, contact us at 50plusnetwork@sfaf.org for more information or call 415-728-3116.
URL:https://www.sfaf.org/event/community-coffee-social-elizabeth-taylor-50-plus-network/2027-03-06/
CATEGORIES:Community events
END:VEVENT
BEGIN:VEVENT
DTSTART;TZID=America/Los_Angeles:20270310T130000
DTEND;TZID=America/Los_Angeles:20270310T150000
DTSTAMP:20260422T043944
CREATED:20260302T225538Z
LAST-MODIFIED:20260302T225727Z
UID:10008540-1804683600-1804690800@www.sfaf.org
SUMMARY:TransLife Drop-In
DESCRIPTION:TransLife empowers and supports group members with whatever they are going through. We understand that life as a trans woman\, trans man\, or gender-fluid individual can be tough. Our group brings a blend of spirituality\, friendship and community to give the support you need and the family you long for. Come join us. \nQuestions? Email Translife@sfaf.org or call 415-487-8090. \nGroup held at 940 Howard St.
URL:https://www.sfaf.org/event/translife-drop-in-2/2027-03-10/
LOCATION:Calendar Events: SFAF Main Office\, 940 Howard Street\, San Francisco\, CA\, 94103 (SFAF Main Office)
CATEGORIES:Community events
END:VEVENT
BEGIN:VEVENT
DTSTART;TZID=America/Los_Angeles:20270313T100000
DTEND;TZID=America/Los_Angeles:20270313T120000
DTSTAMP:20260422T043944
CREATED:20251125T231206Z
LAST-MODIFIED:20251125T231206Z
UID:10007663-1804932000-1804939200@www.sfaf.org
SUMMARY:Community Coffee Social (Elizabeth Taylor 50-Plus Network)
DESCRIPTION:Held every Saturday\, at 10 am\, members and prospective members of the Elizabeth Taylor 50-Plus network gather for coffee and community at a local coffee shop. \nTo join us\, contact us at 50plusnetwork@sfaf.org for more information or call 415-728-3116.
URL:https://www.sfaf.org/event/community-coffee-social-elizabeth-taylor-50-plus-network/2027-03-13/
CATEGORIES:Community events
END:VEVENT
BEGIN:VEVENT
DTSTART;TZID=America/Los_Angeles:20270320T100000
DTEND;TZID=America/Los_Angeles:20270320T120000
DTSTAMP:20260422T043944
CREATED:20251125T231206Z
LAST-MODIFIED:20251125T231206Z
UID:10007664-1805536800-1805544000@www.sfaf.org
SUMMARY:Community Coffee Social (Elizabeth Taylor 50-Plus Network)
DESCRIPTION:Held every Saturday\, at 10 am\, members and prospective members of the Elizabeth Taylor 50-Plus network gather for coffee and community at a local coffee shop. \nTo join us\, contact us at 50plusnetwork@sfaf.org for more information or call 415-728-3116.
URL:https://www.sfaf.org/event/community-coffee-social-elizabeth-taylor-50-plus-network/2027-03-20/
CATEGORIES:Community events
END:VEVENT
BEGIN:VEVENT
DTSTART;TZID=America/Los_Angeles:20270324T130000
DTEND;TZID=America/Los_Angeles:20270324T150000
DTSTAMP:20260422T043944
CREATED:20260302T225538Z
LAST-MODIFIED:20260302T225727Z
UID:10008541-1805893200-1805900400@www.sfaf.org
SUMMARY:TransLife Drop-In
DESCRIPTION:TransLife empowers and supports group members with whatever they are going through. We understand that life as a trans woman\, trans man\, or gender-fluid individual can be tough. Our group brings a blend of spirituality\, friendship and community to give the support you need and the family you long for. Come join us. \nQuestions? Email Translife@sfaf.org or call 415-487-8090. \nGroup held at 940 Howard St.
URL:https://www.sfaf.org/event/translife-drop-in-2/2027-03-24/
LOCATION:Calendar Events: SFAF Main Office\, 940 Howard Street\, San Francisco\, CA\, 94103 (SFAF Main Office)
CATEGORIES:Community events
END:VEVENT
BEGIN:VEVENT
DTSTART;TZID=America/Los_Angeles:20270327T100000
DTEND;TZID=America/Los_Angeles:20270327T120000
DTSTAMP:20260422T043944
CREATED:20251125T231206Z
LAST-MODIFIED:20251125T231206Z
UID:10007665-1806141600-1806148800@www.sfaf.org
SUMMARY:Community Coffee Social (Elizabeth Taylor 50-Plus Network)
DESCRIPTION:Held every Saturday\, at 10 am\, members and prospective members of the Elizabeth Taylor 50-Plus network gather for coffee and community at a local coffee shop. \nTo join us\, contact us at 50plusnetwork@sfaf.org for more information or call 415-728-3116.
URL:https://www.sfaf.org/event/community-coffee-social-elizabeth-taylor-50-plus-network/2027-03-27/
CATEGORIES:Community events
END:VEVENT
BEGIN:VEVENT
DTSTART;TZID=America/Los_Angeles:20270403T100000
DTEND;TZID=America/Los_Angeles:20270403T120000
DTSTAMP:20260422T043944
CREATED:20251125T231206Z
LAST-MODIFIED:20251125T231206Z
UID:10007666-1806746400-1806753600@www.sfaf.org
SUMMARY:Community Coffee Social (Elizabeth Taylor 50-Plus Network)
DESCRIPTION:Held every Saturday\, at 10 am\, members and prospective members of the Elizabeth Taylor 50-Plus network gather for coffee and community at a local coffee shop. \nTo join us\, contact us at 50plusnetwork@sfaf.org for more information or call 415-728-3116.
URL:https://www.sfaf.org/event/community-coffee-social-elizabeth-taylor-50-plus-network/2027-04-03/
CATEGORIES:Community events
END:VEVENT
BEGIN:VEVENT
DTSTART;TZID=America/Los_Angeles:20270410T100000
DTEND;TZID=America/Los_Angeles:20270410T120000
DTSTAMP:20260422T043944
CREATED:20251125T231206Z
LAST-MODIFIED:20251125T231206Z
UID:10007667-1807351200-1807358400@www.sfaf.org
SUMMARY:Community Coffee Social (Elizabeth Taylor 50-Plus Network)
DESCRIPTION:Held every Saturday\, at 10 am\, members and prospective members of the Elizabeth Taylor 50-Plus network gather for coffee and community at a local coffee shop. \nTo join us\, contact us at 50plusnetwork@sfaf.org for more information or call 415-728-3116.
URL:https://www.sfaf.org/event/community-coffee-social-elizabeth-taylor-50-plus-network/2027-04-10/
CATEGORIES:Community events
END:VEVENT
BEGIN:VEVENT
DTSTART;TZID=America/Los_Angeles:20270414T130000
DTEND;TZID=America/Los_Angeles:20270414T150000
DTSTAMP:20260422T043944
CREATED:20260302T225538Z
LAST-MODIFIED:20260302T225727Z
UID:10008542-1807707600-1807714800@www.sfaf.org
SUMMARY:TransLife Drop-In
DESCRIPTION:TransLife empowers and supports group members with whatever they are going through. We understand that life as a trans woman\, trans man\, or gender-fluid individual can be tough. Our group brings a blend of spirituality\, friendship and community to give the support you need and the family you long for. Come join us. \nQuestions? Email Translife@sfaf.org or call 415-487-8090. \nGroup held at 940 Howard St.
URL:https://www.sfaf.org/event/translife-drop-in-2/2027-04-14/
LOCATION:Calendar Events: SFAF Main Office\, 940 Howard Street\, San Francisco\, CA\, 94103 (SFAF Main Office)
CATEGORIES:Community events
END:VEVENT
BEGIN:VEVENT
DTSTART;TZID=America/Los_Angeles:20270417T100000
DTEND;TZID=America/Los_Angeles:20270417T120000
DTSTAMP:20260422T043944
CREATED:20251125T231206Z
LAST-MODIFIED:20251125T231206Z
UID:10007668-1807956000-1807963200@www.sfaf.org
SUMMARY:Community Coffee Social (Elizabeth Taylor 50-Plus Network)
DESCRIPTION:Held every Saturday\, at 10 am\, members and prospective members of the Elizabeth Taylor 50-Plus network gather for coffee and community at a local coffee shop. \nTo join us\, contact us at 50plusnetwork@sfaf.org for more information or call 415-728-3116.
URL:https://www.sfaf.org/event/community-coffee-social-elizabeth-taylor-50-plus-network/2027-04-17/
CATEGORIES:Community events
END:VEVENT
BEGIN:VEVENT
DTSTART;TZID=America/Los_Angeles:20270424T100000
DTEND;TZID=America/Los_Angeles:20270424T120000
DTSTAMP:20260422T043944
CREATED:20251125T231206Z
LAST-MODIFIED:20251125T231206Z
UID:10007669-1808560800-1808568000@www.sfaf.org
SUMMARY:Community Coffee Social (Elizabeth Taylor 50-Plus Network)
DESCRIPTION:Held every Saturday\, at 10 am\, members and prospective members of the Elizabeth Taylor 50-Plus network gather for coffee and community at a local coffee shop. \nTo join us\, contact us at 50plusnetwork@sfaf.org for more information or call 415-728-3116.
URL:https://www.sfaf.org/event/community-coffee-social-elizabeth-taylor-50-plus-network/2027-04-24/
CATEGORIES:Community events
END:VEVENT
BEGIN:VEVENT
DTSTART;TZID=America/Los_Angeles:20270428T130000
DTEND;TZID=America/Los_Angeles:20270428T150000
DTSTAMP:20260422T043944
CREATED:20260302T225538Z
LAST-MODIFIED:20260302T225727Z
UID:10008543-1808917200-1808924400@www.sfaf.org
SUMMARY:TransLife Drop-In
DESCRIPTION:TransLife empowers and supports group members with whatever they are going through. We understand that life as a trans woman\, trans man\, or gender-fluid individual can be tough. Our group brings a blend of spirituality\, friendship and community to give the support you need and the family you long for. Come join us. \nQuestions? Email Translife@sfaf.org or call 415-487-8090. \nGroup held at 940 Howard St.
URL:https://www.sfaf.org/event/translife-drop-in-2/2027-04-28/
LOCATION:Calendar Events: SFAF Main Office\, 940 Howard Street\, San Francisco\, CA\, 94103 (SFAF Main Office)
CATEGORIES:Community events
END:VEVENT
BEGIN:VEVENT
DTSTART;TZID=America/Los_Angeles:20270501T100000
DTEND;TZID=America/Los_Angeles:20270501T120000
DTSTAMP:20260422T043944
CREATED:20251125T231206Z
LAST-MODIFIED:20251125T231206Z
UID:10007670-1809165600-1809172800@www.sfaf.org
SUMMARY:Community Coffee Social (Elizabeth Taylor 50-Plus Network)
DESCRIPTION:Held every Saturday\, at 10 am\, members and prospective members of the Elizabeth Taylor 50-Plus network gather for coffee and community at a local coffee shop. \nTo join us\, contact us at 50plusnetwork@sfaf.org for more information or call 415-728-3116.
URL:https://www.sfaf.org/event/community-coffee-social-elizabeth-taylor-50-plus-network/2027-05-01/
CATEGORIES:Community events
END:VEVENT
BEGIN:VEVENT
DTSTART;TZID=America/Los_Angeles:20270508T100000
DTEND;TZID=America/Los_Angeles:20270508T120000
DTSTAMP:20260422T043944
CREATED:20251125T231206Z
LAST-MODIFIED:20251125T231206Z
UID:10007671-1809770400-1809777600@www.sfaf.org
SUMMARY:Community Coffee Social (Elizabeth Taylor 50-Plus Network)
DESCRIPTION:Held every Saturday\, at 10 am\, members and prospective members of the Elizabeth Taylor 50-Plus network gather for coffee and community at a local coffee shop. \nTo join us\, contact us at 50plusnetwork@sfaf.org for more information or call 415-728-3116.
URL:https://www.sfaf.org/event/community-coffee-social-elizabeth-taylor-50-plus-network/2027-05-08/
CATEGORIES:Community events
END:VEVENT
BEGIN:VEVENT
DTSTART;TZID=America/Los_Angeles:20270512T130000
DTEND;TZID=America/Los_Angeles:20270512T150000
DTSTAMP:20260422T043944
CREATED:20260302T225538Z
LAST-MODIFIED:20260302T225727Z
UID:10008544-1810126800-1810134000@www.sfaf.org
SUMMARY:TransLife Drop-In
DESCRIPTION:TransLife empowers and supports group members with whatever they are going through. We understand that life as a trans woman\, trans man\, or gender-fluid individual can be tough. Our group brings a blend of spirituality\, friendship and community to give the support you need and the family you long for. Come join us. \nQuestions? Email Translife@sfaf.org or call 415-487-8090. \nGroup held at 940 Howard St.
URL:https://www.sfaf.org/event/translife-drop-in-2/2027-05-12/
LOCATION:Calendar Events: SFAF Main Office\, 940 Howard Street\, San Francisco\, CA\, 94103 (SFAF Main Office)
CATEGORIES:Community events
END:VEVENT
BEGIN:VEVENT
DTSTART;TZID=America/Los_Angeles:20270515T100000
DTEND;TZID=America/Los_Angeles:20270515T120000
DTSTAMP:20260422T043944
CREATED:20251125T231206Z
LAST-MODIFIED:20251125T231206Z
UID:10007672-1810375200-1810382400@www.sfaf.org
SUMMARY:Community Coffee Social (Elizabeth Taylor 50-Plus Network)
DESCRIPTION:Held every Saturday\, at 10 am\, members and prospective members of the Elizabeth Taylor 50-Plus network gather for coffee and community at a local coffee shop. \nTo join us\, contact us at 50plusnetwork@sfaf.org for more information or call 415-728-3116.
URL:https://www.sfaf.org/event/community-coffee-social-elizabeth-taylor-50-plus-network/2027-05-15/
CATEGORIES:Community events
END:VEVENT
BEGIN:VEVENT
DTSTART;TZID=America/Los_Angeles:20270522T100000
DTEND;TZID=America/Los_Angeles:20270522T120000
DTSTAMP:20260422T043944
CREATED:20251125T231206Z
LAST-MODIFIED:20251125T231206Z
UID:10007673-1810980000-1810987200@www.sfaf.org
SUMMARY:Community Coffee Social (Elizabeth Taylor 50-Plus Network)
DESCRIPTION:Held every Saturday\, at 10 am\, members and prospective members of the Elizabeth Taylor 50-Plus network gather for coffee and community at a local coffee shop. \nTo join us\, contact us at 50plusnetwork@sfaf.org for more information or call 415-728-3116.
URL:https://www.sfaf.org/event/community-coffee-social-elizabeth-taylor-50-plus-network/2027-05-22/
CATEGORIES:Community events
END:VEVENT
BEGIN:VEVENT
DTSTART;TZID=America/Los_Angeles:20270526T130000
DTEND;TZID=America/Los_Angeles:20270526T150000
DTSTAMP:20260422T043944
CREATED:20260302T225538Z
LAST-MODIFIED:20260302T225727Z
UID:10008545-1811336400-1811343600@www.sfaf.org
SUMMARY:TransLife Drop-In
DESCRIPTION:TransLife empowers and supports group members with whatever they are going through. We understand that life as a trans woman\, trans man\, or gender-fluid individual can be tough. Our group brings a blend of spirituality\, friendship and community to give the support you need and the family you long for. Come join us. \nQuestions? Email Translife@sfaf.org or call 415-487-8090. \nGroup held at 940 Howard St.
URL:https://www.sfaf.org/event/translife-drop-in-2/2027-05-26/
LOCATION:Calendar Events: SFAF Main Office\, 940 Howard Street\, San Francisco\, CA\, 94103 (SFAF Main Office)
CATEGORIES:Community events
END:VEVENT
BEGIN:VEVENT
DTSTART;TZID=America/Los_Angeles:20270529T100000
DTEND;TZID=America/Los_Angeles:20270529T120000
DTSTAMP:20260422T043944
CREATED:20251125T231206Z
LAST-MODIFIED:20251125T231206Z
UID:10007674-1811584800-1811592000@www.sfaf.org
SUMMARY:Community Coffee Social (Elizabeth Taylor 50-Plus Network)
DESCRIPTION:Held every Saturday\, at 10 am\, members and prospective members of the Elizabeth Taylor 50-Plus network gather for coffee and community at a local coffee shop. \nTo join us\, contact us at 50plusnetwork@sfaf.org for more information or call 415-728-3116.
URL:https://www.sfaf.org/event/community-coffee-social-elizabeth-taylor-50-plus-network/2027-05-29/
CATEGORIES:Community events
END:VEVENT
BEGIN:VEVENT
DTSTART;TZID=America/Los_Angeles:20270605T100000
DTEND;TZID=America/Los_Angeles:20270605T120000
DTSTAMP:20260422T043944
CREATED:20251125T231206Z
LAST-MODIFIED:20251125T231206Z
UID:10007675-1812189600-1812196800@www.sfaf.org
SUMMARY:Community Coffee Social (Elizabeth Taylor 50-Plus Network)
DESCRIPTION:Held every Saturday\, at 10 am\, members and prospective members of the Elizabeth Taylor 50-Plus network gather for coffee and community at a local coffee shop. \nTo join us\, contact us at 50plusnetwork@sfaf.org for more information or call 415-728-3116.
URL:https://www.sfaf.org/event/community-coffee-social-elizabeth-taylor-50-plus-network/2027-06-05/
CATEGORIES:Community events
END:VEVENT
BEGIN:VEVENT
DTSTART;TZID=America/Los_Angeles:20270609T130000
DTEND;TZID=America/Los_Angeles:20270609T150000
DTSTAMP:20260422T043944
CREATED:20260302T225538Z
LAST-MODIFIED:20260302T225727Z
UID:10008546-1812546000-1812553200@www.sfaf.org
SUMMARY:TransLife Drop-In
DESCRIPTION:TransLife empowers and supports group members with whatever they are going through. We understand that life as a trans woman\, trans man\, or gender-fluid individual can be tough. Our group brings a blend of spirituality\, friendship and community to give the support you need and the family you long for. Come join us. \nQuestions? Email Translife@sfaf.org or call 415-487-8090. \nGroup held at 940 Howard St.
URL:https://www.sfaf.org/event/translife-drop-in-2/2027-06-09/
LOCATION:Calendar Events: SFAF Main Office\, 940 Howard Street\, San Francisco\, CA\, 94103 (SFAF Main Office)
CATEGORIES:Community events
END:VEVENT
BEGIN:VEVENT
DTSTART;TZID=America/Los_Angeles:20270612T100000
DTEND;TZID=America/Los_Angeles:20270612T120000
DTSTAMP:20260422T043944
CREATED:20251125T231206Z
LAST-MODIFIED:20251125T231206Z
UID:10007676-1812794400-1812801600@www.sfaf.org
SUMMARY:Community Coffee Social (Elizabeth Taylor 50-Plus Network)
DESCRIPTION:Held every Saturday\, at 10 am\, members and prospective members of the Elizabeth Taylor 50-Plus network gather for coffee and community at a local coffee shop. \nTo join us\, contact us at 50plusnetwork@sfaf.org for more information or call 415-728-3116.
URL:https://www.sfaf.org/event/community-coffee-social-elizabeth-taylor-50-plus-network/2027-06-12/
CATEGORIES:Community events
END:VEVENT
END:VCALENDAR