BEGIN:VCALENDAR
VERSION:2.0
PRODID:-//San Francisco AIDS Foundation - ECPv6.15.17.1//NONSGML v1.0//EN
CALSCALE:GREGORIAN
METHOD:PUBLISH
X-WR-CALNAME:San Francisco AIDS Foundation
X-ORIGINAL-URL:https://www.sfaf.org
X-WR-CALDESC:Events for San Francisco AIDS Foundation
REFRESH-INTERVAL;VALUE=DURATION:PT1H
X-Robots-Tag:noindex
X-PUBLISHED-TTL:PT1H
BEGIN:VTIMEZONE
TZID:America/Los_Angeles
BEGIN:DAYLIGHT
TZOFFSETFROM:-0800
TZOFFSETTO:-0700
TZNAME:PDT
DTSTART:20250309T100000
END:DAYLIGHT
BEGIN:STANDARD
TZOFFSETFROM:-0700
TZOFFSETTO:-0800
TZNAME:PST
DTSTART:20251102T090000
END:STANDARD
BEGIN:DAYLIGHT
TZOFFSETFROM:-0800
TZOFFSETTO:-0700
TZNAME:PDT
DTSTART:20260308T100000
END:DAYLIGHT
BEGIN:STANDARD
TZOFFSETFROM:-0700
TZOFFSETTO:-0800
TZNAME:PST
DTSTART:20261101T090000
END:STANDARD
BEGIN:DAYLIGHT
TZOFFSETFROM:-0800
TZOFFSETTO:-0700
TZNAME:PDT
DTSTART:20270314T100000
END:DAYLIGHT
BEGIN:STANDARD
TZOFFSETFROM:-0700
TZOFFSETTO:-0800
TZNAME:PST
DTSTART:20271107T090000
END:STANDARD
BEGIN:DAYLIGHT
TZOFFSETFROM:-0800
TZOFFSETTO:-0700
TZNAME:PDT
DTSTART:20280312T100000
END:DAYLIGHT
BEGIN:STANDARD
TZOFFSETFROM:-0700
TZOFFSETTO:-0800
TZNAME:PST
DTSTART:20281105T090000
END:STANDARD
END:VTIMEZONE
BEGIN:VEVENT
DTSTART;TZID=America/Los_Angeles:20261003T100000
DTEND;TZID=America/Los_Angeles:20261003T120000
DTSTAMP:20260422T013647
CREATED:20251125T231206Z
LAST-MODIFIED:20251125T231206Z
UID:10007640-1791021600-1791028800@www.sfaf.org
SUMMARY:Community Coffee Social (Elizabeth Taylor 50-Plus Network)
DESCRIPTION:Held every Saturday\, at 10 am\, members and prospective members of the Elizabeth Taylor 50-Plus network gather for coffee and community at a local coffee shop. \nTo join us\, contact us at 50plusnetwork@sfaf.org for more information or call 415-728-3116.
URL:https://www.sfaf.org/event/community-coffee-social-elizabeth-taylor-50-plus-network/2026-10-03/
CATEGORIES:Community events
END:VEVENT
BEGIN:VEVENT
DTSTART;TZID=America/Los_Angeles:20261010T100000
DTEND;TZID=America/Los_Angeles:20261010T120000
DTSTAMP:20260422T013647
CREATED:20251125T231206Z
LAST-MODIFIED:20251125T231206Z
UID:10007641-1791626400-1791633600@www.sfaf.org
SUMMARY:Community Coffee Social (Elizabeth Taylor 50-Plus Network)
DESCRIPTION:Held every Saturday\, at 10 am\, members and prospective members of the Elizabeth Taylor 50-Plus network gather for coffee and community at a local coffee shop. \nTo join us\, contact us at 50plusnetwork@sfaf.org for more information or call 415-728-3116.
URL:https://www.sfaf.org/event/community-coffee-social-elizabeth-taylor-50-plus-network/2026-10-10/
CATEGORIES:Community events
END:VEVENT
BEGIN:VEVENT
DTSTART;TZID=America/Los_Angeles:20261014T130000
DTEND;TZID=America/Los_Angeles:20261014T150000
DTSTAMP:20260422T013647
CREATED:20260302T225538Z
LAST-MODIFIED:20260302T225727Z
UID:10008530-1791982800-1791990000@www.sfaf.org
SUMMARY:TransLife Drop-In
DESCRIPTION:TransLife empowers and supports group members with whatever they are going through. We understand that life as a trans woman\, trans man\, or gender-fluid individual can be tough. Our group brings a blend of spirituality\, friendship and community to give the support you need and the family you long for. Come join us. \nQuestions? Email Translife@sfaf.org or call 415-487-8090. \nGroup held at 940 Howard St.
URL:https://www.sfaf.org/event/translife-drop-in-2/2026-10-14/
LOCATION:Calendar Events: SFAF Main Office\, 940 Howard Street\, San Francisco\, CA\, 94103 (SFAF Main Office)
CATEGORIES:Community events
END:VEVENT
BEGIN:VEVENT
DTSTART;TZID=America/Los_Angeles:20261017T100000
DTEND;TZID=America/Los_Angeles:20261017T120000
DTSTAMP:20260422T013647
CREATED:20251125T231206Z
LAST-MODIFIED:20251125T231206Z
UID:10007642-1792231200-1792238400@www.sfaf.org
SUMMARY:Community Coffee Social (Elizabeth Taylor 50-Plus Network)
DESCRIPTION:Held every Saturday\, at 10 am\, members and prospective members of the Elizabeth Taylor 50-Plus network gather for coffee and community at a local coffee shop. \nTo join us\, contact us at 50plusnetwork@sfaf.org for more information or call 415-728-3116.
URL:https://www.sfaf.org/event/community-coffee-social-elizabeth-taylor-50-plus-network/2026-10-17/
CATEGORIES:Community events
END:VEVENT
BEGIN:VEVENT
DTSTART;TZID=America/Los_Angeles:20261024T100000
DTEND;TZID=America/Los_Angeles:20261024T120000
DTSTAMP:20260422T013647
CREATED:20251125T231206Z
LAST-MODIFIED:20251125T231206Z
UID:10007643-1792836000-1792843200@www.sfaf.org
SUMMARY:Community Coffee Social (Elizabeth Taylor 50-Plus Network)
DESCRIPTION:Held every Saturday\, at 10 am\, members and prospective members of the Elizabeth Taylor 50-Plus network gather for coffee and community at a local coffee shop. \nTo join us\, contact us at 50plusnetwork@sfaf.org for more information or call 415-728-3116.
URL:https://www.sfaf.org/event/community-coffee-social-elizabeth-taylor-50-plus-network/2026-10-24/
CATEGORIES:Community events
END:VEVENT
BEGIN:VEVENT
DTSTART;TZID=America/Los_Angeles:20261028T130000
DTEND;TZID=America/Los_Angeles:20261028T150000
DTSTAMP:20260422T013647
CREATED:20260302T225538Z
LAST-MODIFIED:20260302T225727Z
UID:10008531-1793192400-1793199600@www.sfaf.org
SUMMARY:TransLife Drop-In
DESCRIPTION:TransLife empowers and supports group members with whatever they are going through. We understand that life as a trans woman\, trans man\, or gender-fluid individual can be tough. Our group brings a blend of spirituality\, friendship and community to give the support you need and the family you long for. Come join us. \nQuestions? Email Translife@sfaf.org or call 415-487-8090. \nGroup held at 940 Howard St.
URL:https://www.sfaf.org/event/translife-drop-in-2/2026-10-28/
LOCATION:Calendar Events: SFAF Main Office\, 940 Howard Street\, San Francisco\, CA\, 94103 (SFAF Main Office)
CATEGORIES:Community events
END:VEVENT
BEGIN:VEVENT
DTSTART;TZID=America/Los_Angeles:20261031T100000
DTEND;TZID=America/Los_Angeles:20261031T120000
DTSTAMP:20260422T013647
CREATED:20251125T231206Z
LAST-MODIFIED:20251125T231206Z
UID:10007644-1793440800-1793448000@www.sfaf.org
SUMMARY:Community Coffee Social (Elizabeth Taylor 50-Plus Network)
DESCRIPTION:Held every Saturday\, at 10 am\, members and prospective members of the Elizabeth Taylor 50-Plus network gather for coffee and community at a local coffee shop. \nTo join us\, contact us at 50plusnetwork@sfaf.org for more information or call 415-728-3116.
URL:https://www.sfaf.org/event/community-coffee-social-elizabeth-taylor-50-plus-network/2026-10-31/
CATEGORIES:Community events
END:VEVENT
BEGIN:VEVENT
DTSTART;TZID=America/Los_Angeles:20261107T100000
DTEND;TZID=America/Los_Angeles:20261107T120000
DTSTAMP:20260422T013647
CREATED:20251125T231206Z
LAST-MODIFIED:20251125T231206Z
UID:10007645-1794045600-1794052800@www.sfaf.org
SUMMARY:Community Coffee Social (Elizabeth Taylor 50-Plus Network)
DESCRIPTION:Held every Saturday\, at 10 am\, members and prospective members of the Elizabeth Taylor 50-Plus network gather for coffee and community at a local coffee shop. \nTo join us\, contact us at 50plusnetwork@sfaf.org for more information or call 415-728-3116.
URL:https://www.sfaf.org/event/community-coffee-social-elizabeth-taylor-50-plus-network/2026-11-07/
CATEGORIES:Community events
END:VEVENT
BEGIN:VEVENT
DTSTART;TZID=America/Los_Angeles:20261111T130000
DTEND;TZID=America/Los_Angeles:20261111T150000
DTSTAMP:20260422T013647
CREATED:20260302T225538Z
LAST-MODIFIED:20260302T225727Z
UID:10008532-1794402000-1794409200@www.sfaf.org
SUMMARY:TransLife Drop-In
DESCRIPTION:TransLife empowers and supports group members with whatever they are going through. We understand that life as a trans woman\, trans man\, or gender-fluid individual can be tough. Our group brings a blend of spirituality\, friendship and community to give the support you need and the family you long for. Come join us. \nQuestions? Email Translife@sfaf.org or call 415-487-8090. \nGroup held at 940 Howard St.
URL:https://www.sfaf.org/event/translife-drop-in-2/2026-11-11/
LOCATION:Calendar Events: SFAF Main Office\, 940 Howard Street\, San Francisco\, CA\, 94103 (SFAF Main Office)
CATEGORIES:Community events
END:VEVENT
BEGIN:VEVENT
DTSTART;TZID=America/Los_Angeles:20261114T100000
DTEND;TZID=America/Los_Angeles:20261114T120000
DTSTAMP:20260422T013647
CREATED:20251125T231206Z
LAST-MODIFIED:20251125T231206Z
UID:10007646-1794650400-1794657600@www.sfaf.org
SUMMARY:Community Coffee Social (Elizabeth Taylor 50-Plus Network)
DESCRIPTION:Held every Saturday\, at 10 am\, members and prospective members of the Elizabeth Taylor 50-Plus network gather for coffee and community at a local coffee shop. \nTo join us\, contact us at 50plusnetwork@sfaf.org for more information or call 415-728-3116.
URL:https://www.sfaf.org/event/community-coffee-social-elizabeth-taylor-50-plus-network/2026-11-14/
CATEGORIES:Community events
END:VEVENT
BEGIN:VEVENT
DTSTART;TZID=America/Los_Angeles:20261121T100000
DTEND;TZID=America/Los_Angeles:20261121T120000
DTSTAMP:20260422T013647
CREATED:20251125T231206Z
LAST-MODIFIED:20251125T231206Z
UID:10007647-1795255200-1795262400@www.sfaf.org
SUMMARY:Community Coffee Social (Elizabeth Taylor 50-Plus Network)
DESCRIPTION:Held every Saturday\, at 10 am\, members and prospective members of the Elizabeth Taylor 50-Plus network gather for coffee and community at a local coffee shop. \nTo join us\, contact us at 50plusnetwork@sfaf.org for more information or call 415-728-3116.
URL:https://www.sfaf.org/event/community-coffee-social-elizabeth-taylor-50-plus-network/2026-11-21/
CATEGORIES:Community events
END:VEVENT
BEGIN:VEVENT
DTSTART;TZID=America/Los_Angeles:20261125T130000
DTEND;TZID=America/Los_Angeles:20261125T150000
DTSTAMP:20260422T013647
CREATED:20260302T225538Z
LAST-MODIFIED:20260302T225727Z
UID:10008533-1795611600-1795618800@www.sfaf.org
SUMMARY:TransLife Drop-In
DESCRIPTION:TransLife empowers and supports group members with whatever they are going through. We understand that life as a trans woman\, trans man\, or gender-fluid individual can be tough. Our group brings a blend of spirituality\, friendship and community to give the support you need and the family you long for. Come join us. \nQuestions? Email Translife@sfaf.org or call 415-487-8090. \nGroup held at 940 Howard St.
URL:https://www.sfaf.org/event/translife-drop-in-2/2026-11-25/
LOCATION:Calendar Events: SFAF Main Office\, 940 Howard Street\, San Francisco\, CA\, 94103 (SFAF Main Office)
CATEGORIES:Community events
END:VEVENT
BEGIN:VEVENT
DTSTART;TZID=America/Los_Angeles:20261128T100000
DTEND;TZID=America/Los_Angeles:20261128T120000
DTSTAMP:20260422T013647
CREATED:20251125T231206Z
LAST-MODIFIED:20251125T231206Z
UID:10007648-1795860000-1795867200@www.sfaf.org
SUMMARY:Community Coffee Social (Elizabeth Taylor 50-Plus Network)
DESCRIPTION:Held every Saturday\, at 10 am\, members and prospective members of the Elizabeth Taylor 50-Plus network gather for coffee and community at a local coffee shop. \nTo join us\, contact us at 50plusnetwork@sfaf.org for more information or call 415-728-3116.
URL:https://www.sfaf.org/event/community-coffee-social-elizabeth-taylor-50-plus-network/2026-11-28/
CATEGORIES:Community events
END:VEVENT
BEGIN:VEVENT
DTSTART;TZID=America/Los_Angeles:20261205T100000
DTEND;TZID=America/Los_Angeles:20261205T120000
DTSTAMP:20260422T013647
CREATED:20251125T231206Z
LAST-MODIFIED:20251125T231206Z
UID:10007649-1796464800-1796472000@www.sfaf.org
SUMMARY:Community Coffee Social (Elizabeth Taylor 50-Plus Network)
DESCRIPTION:Held every Saturday\, at 10 am\, members and prospective members of the Elizabeth Taylor 50-Plus network gather for coffee and community at a local coffee shop. \nTo join us\, contact us at 50plusnetwork@sfaf.org for more information or call 415-728-3116.
URL:https://www.sfaf.org/event/community-coffee-social-elizabeth-taylor-50-plus-network/2026-12-05/
CATEGORIES:Community events
END:VEVENT
BEGIN:VEVENT
DTSTART;TZID=America/Los_Angeles:20261209T130000
DTEND;TZID=America/Los_Angeles:20261209T150000
DTSTAMP:20260422T013647
CREATED:20260302T225538Z
LAST-MODIFIED:20260302T225727Z
UID:10008534-1796821200-1796828400@www.sfaf.org
SUMMARY:TransLife Drop-In
DESCRIPTION:TransLife empowers and supports group members with whatever they are going through. We understand that life as a trans woman\, trans man\, or gender-fluid individual can be tough. Our group brings a blend of spirituality\, friendship and community to give the support you need and the family you long for. Come join us. \nQuestions? Email Translife@sfaf.org or call 415-487-8090. \nGroup held at 940 Howard St.
URL:https://www.sfaf.org/event/translife-drop-in-2/2026-12-09/
LOCATION:Calendar Events: SFAF Main Office\, 940 Howard Street\, San Francisco\, CA\, 94103 (SFAF Main Office)
CATEGORIES:Community events
END:VEVENT
BEGIN:VEVENT
DTSTART;TZID=America/Los_Angeles:20261212T100000
DTEND;TZID=America/Los_Angeles:20261212T120000
DTSTAMP:20260422T013647
CREATED:20251125T231206Z
LAST-MODIFIED:20251125T231206Z
UID:10007650-1797069600-1797076800@www.sfaf.org
SUMMARY:Community Coffee Social (Elizabeth Taylor 50-Plus Network)
DESCRIPTION:Held every Saturday\, at 10 am\, members and prospective members of the Elizabeth Taylor 50-Plus network gather for coffee and community at a local coffee shop. \nTo join us\, contact us at 50plusnetwork@sfaf.org for more information or call 415-728-3116.
URL:https://www.sfaf.org/event/community-coffee-social-elizabeth-taylor-50-plus-network/2026-12-12/
CATEGORIES:Community events
END:VEVENT
BEGIN:VEVENT
DTSTART;TZID=America/Los_Angeles:20261219T100000
DTEND;TZID=America/Los_Angeles:20261219T120000
DTSTAMP:20260422T013647
CREATED:20251125T231206Z
LAST-MODIFIED:20251125T231206Z
UID:10007651-1797674400-1797681600@www.sfaf.org
SUMMARY:Community Coffee Social (Elizabeth Taylor 50-Plus Network)
DESCRIPTION:Held every Saturday\, at 10 am\, members and prospective members of the Elizabeth Taylor 50-Plus network gather for coffee and community at a local coffee shop. \nTo join us\, contact us at 50plusnetwork@sfaf.org for more information or call 415-728-3116.
URL:https://www.sfaf.org/event/community-coffee-social-elizabeth-taylor-50-plus-network/2026-12-19/
CATEGORIES:Community events
END:VEVENT
BEGIN:VEVENT
DTSTART;TZID=America/Los_Angeles:20261223T130000
DTEND;TZID=America/Los_Angeles:20261223T150000
DTSTAMP:20260422T013647
CREATED:20260302T225538Z
LAST-MODIFIED:20260302T225727Z
UID:10008535-1798030800-1798038000@www.sfaf.org
SUMMARY:TransLife Drop-In
DESCRIPTION:TransLife empowers and supports group members with whatever they are going through. We understand that life as a trans woman\, trans man\, or gender-fluid individual can be tough. Our group brings a blend of spirituality\, friendship and community to give the support you need and the family you long for. Come join us. \nQuestions? Email Translife@sfaf.org or call 415-487-8090. \nGroup held at 940 Howard St.
URL:https://www.sfaf.org/event/translife-drop-in-2/2026-12-23/
LOCATION:Calendar Events: SFAF Main Office\, 940 Howard Street\, San Francisco\, CA\, 94103 (SFAF Main Office)
CATEGORIES:Community events
END:VEVENT
BEGIN:VEVENT
DTSTART;TZID=America/Los_Angeles:20261226T100000
DTEND;TZID=America/Los_Angeles:20261226T120000
DTSTAMP:20260422T013647
CREATED:20251125T231206Z
LAST-MODIFIED:20251125T231206Z
UID:10007652-1798279200-1798286400@www.sfaf.org
SUMMARY:Community Coffee Social (Elizabeth Taylor 50-Plus Network)
DESCRIPTION:Held every Saturday\, at 10 am\, members and prospective members of the Elizabeth Taylor 50-Plus network gather for coffee and community at a local coffee shop. \nTo join us\, contact us at 50plusnetwork@sfaf.org for more information or call 415-728-3116.
URL:https://www.sfaf.org/event/community-coffee-social-elizabeth-taylor-50-plus-network/2026-12-26/
CATEGORIES:Community events
END:VEVENT
BEGIN:VEVENT
DTSTART;TZID=America/Los_Angeles:20270102T100000
DTEND;TZID=America/Los_Angeles:20270102T120000
DTSTAMP:20260422T013647
CREATED:20251125T231206Z
LAST-MODIFIED:20251125T231206Z
UID:10007653-1798884000-1798891200@www.sfaf.org
SUMMARY:Community Coffee Social (Elizabeth Taylor 50-Plus Network)
DESCRIPTION:Held every Saturday\, at 10 am\, members and prospective members of the Elizabeth Taylor 50-Plus network gather for coffee and community at a local coffee shop. \nTo join us\, contact us at 50plusnetwork@sfaf.org for more information or call 415-728-3116.
URL:https://www.sfaf.org/event/community-coffee-social-elizabeth-taylor-50-plus-network/2027-01-02/
CATEGORIES:Community events
END:VEVENT
BEGIN:VEVENT
DTSTART;TZID=America/Los_Angeles:20270109T100000
DTEND;TZID=America/Los_Angeles:20270109T120000
DTSTAMP:20260422T013647
CREATED:20251125T231206Z
LAST-MODIFIED:20251125T231206Z
UID:10007654-1799488800-1799496000@www.sfaf.org
SUMMARY:Community Coffee Social (Elizabeth Taylor 50-Plus Network)
DESCRIPTION:Held every Saturday\, at 10 am\, members and prospective members of the Elizabeth Taylor 50-Plus network gather for coffee and community at a local coffee shop. \nTo join us\, contact us at 50plusnetwork@sfaf.org for more information or call 415-728-3116.
URL:https://www.sfaf.org/event/community-coffee-social-elizabeth-taylor-50-plus-network/2027-01-09/
CATEGORIES:Community events
END:VEVENT
BEGIN:VEVENT
DTSTART;TZID=America/Los_Angeles:20270113T130000
DTEND;TZID=America/Los_Angeles:20270113T150000
DTSTAMP:20260422T013647
CREATED:20260302T225538Z
LAST-MODIFIED:20260302T225727Z
UID:10008536-1799845200-1799852400@www.sfaf.org
SUMMARY:TransLife Drop-In
DESCRIPTION:TransLife empowers and supports group members with whatever they are going through. We understand that life as a trans woman\, trans man\, or gender-fluid individual can be tough. Our group brings a blend of spirituality\, friendship and community to give the support you need and the family you long for. Come join us. \nQuestions? Email Translife@sfaf.org or call 415-487-8090. \nGroup held at 940 Howard St.
URL:https://www.sfaf.org/event/translife-drop-in-2/2027-01-13/
LOCATION:Calendar Events: SFAF Main Office\, 940 Howard Street\, San Francisco\, CA\, 94103 (SFAF Main Office)
CATEGORIES:Community events
END:VEVENT
BEGIN:VEVENT
DTSTART;TZID=America/Los_Angeles:20270116T100000
DTEND;TZID=America/Los_Angeles:20270116T120000
DTSTAMP:20260422T013647
CREATED:20251125T231206Z
LAST-MODIFIED:20251125T231206Z
UID:10007655-1800093600-1800100800@www.sfaf.org
SUMMARY:Community Coffee Social (Elizabeth Taylor 50-Plus Network)
DESCRIPTION:Held every Saturday\, at 10 am\, members and prospective members of the Elizabeth Taylor 50-Plus network gather for coffee and community at a local coffee shop. \nTo join us\, contact us at 50plusnetwork@sfaf.org for more information or call 415-728-3116.
URL:https://www.sfaf.org/event/community-coffee-social-elizabeth-taylor-50-plus-network/2027-01-16/
CATEGORIES:Community events
END:VEVENT
BEGIN:VEVENT
DTSTART;TZID=America/Los_Angeles:20270123T100000
DTEND;TZID=America/Los_Angeles:20270123T120000
DTSTAMP:20260422T013647
CREATED:20251125T231206Z
LAST-MODIFIED:20251125T231206Z
UID:10007656-1800698400-1800705600@www.sfaf.org
SUMMARY:Community Coffee Social (Elizabeth Taylor 50-Plus Network)
DESCRIPTION:Held every Saturday\, at 10 am\, members and prospective members of the Elizabeth Taylor 50-Plus network gather for coffee and community at a local coffee shop. \nTo join us\, contact us at 50plusnetwork@sfaf.org for more information or call 415-728-3116.
URL:https://www.sfaf.org/event/community-coffee-social-elizabeth-taylor-50-plus-network/2027-01-23/
CATEGORIES:Community events
END:VEVENT
BEGIN:VEVENT
DTSTART;TZID=America/Los_Angeles:20270127T130000
DTEND;TZID=America/Los_Angeles:20270127T150000
DTSTAMP:20260422T013647
CREATED:20260302T225538Z
LAST-MODIFIED:20260302T225727Z
UID:10008537-1801054800-1801062000@www.sfaf.org
SUMMARY:TransLife Drop-In
DESCRIPTION:TransLife empowers and supports group members with whatever they are going through. We understand that life as a trans woman\, trans man\, or gender-fluid individual can be tough. Our group brings a blend of spirituality\, friendship and community to give the support you need and the family you long for. Come join us. \nQuestions? Email Translife@sfaf.org or call 415-487-8090. \nGroup held at 940 Howard St.
URL:https://www.sfaf.org/event/translife-drop-in-2/2027-01-27/
LOCATION:Calendar Events: SFAF Main Office\, 940 Howard Street\, San Francisco\, CA\, 94103 (SFAF Main Office)
CATEGORIES:Community events
END:VEVENT
BEGIN:VEVENT
DTSTART;TZID=America/Los_Angeles:20270130T100000
DTEND;TZID=America/Los_Angeles:20270130T120000
DTSTAMP:20260422T013647
CREATED:20251125T231206Z
LAST-MODIFIED:20251125T231206Z
UID:10007657-1801303200-1801310400@www.sfaf.org
SUMMARY:Community Coffee Social (Elizabeth Taylor 50-Plus Network)
DESCRIPTION:Held every Saturday\, at 10 am\, members and prospective members of the Elizabeth Taylor 50-Plus network gather for coffee and community at a local coffee shop. \nTo join us\, contact us at 50plusnetwork@sfaf.org for more information or call 415-728-3116.
URL:https://www.sfaf.org/event/community-coffee-social-elizabeth-taylor-50-plus-network/2027-01-30/
CATEGORIES:Community events
END:VEVENT
BEGIN:VEVENT
DTSTART;TZID=America/Los_Angeles:20270206T100000
DTEND;TZID=America/Los_Angeles:20270206T120000
DTSTAMP:20260422T013647
CREATED:20251125T231206Z
LAST-MODIFIED:20251125T231206Z
UID:10007658-1801908000-1801915200@www.sfaf.org
SUMMARY:Community Coffee Social (Elizabeth Taylor 50-Plus Network)
DESCRIPTION:Held every Saturday\, at 10 am\, members and prospective members of the Elizabeth Taylor 50-Plus network gather for coffee and community at a local coffee shop. \nTo join us\, contact us at 50plusnetwork@sfaf.org for more information or call 415-728-3116.
URL:https://www.sfaf.org/event/community-coffee-social-elizabeth-taylor-50-plus-network/2027-02-06/
CATEGORIES:Community events
END:VEVENT
BEGIN:VEVENT
DTSTART;TZID=America/Los_Angeles:20270210T130000
DTEND;TZID=America/Los_Angeles:20270210T150000
DTSTAMP:20260422T013647
CREATED:20260302T225538Z
LAST-MODIFIED:20260302T225727Z
UID:10008538-1802264400-1802271600@www.sfaf.org
SUMMARY:TransLife Drop-In
DESCRIPTION:TransLife empowers and supports group members with whatever they are going through. We understand that life as a trans woman\, trans man\, or gender-fluid individual can be tough. Our group brings a blend of spirituality\, friendship and community to give the support you need and the family you long for. Come join us. \nQuestions? Email Translife@sfaf.org or call 415-487-8090. \nGroup held at 940 Howard St.
URL:https://www.sfaf.org/event/translife-drop-in-2/2027-02-10/
LOCATION:Calendar Events: SFAF Main Office\, 940 Howard Street\, San Francisco\, CA\, 94103 (SFAF Main Office)
CATEGORIES:Community events
END:VEVENT
BEGIN:VEVENT
DTSTART;TZID=America/Los_Angeles:20270213T100000
DTEND;TZID=America/Los_Angeles:20270213T120000
DTSTAMP:20260422T013647
CREATED:20251125T231206Z
LAST-MODIFIED:20251125T231206Z
UID:10007659-1802512800-1802520000@www.sfaf.org
SUMMARY:Community Coffee Social (Elizabeth Taylor 50-Plus Network)
DESCRIPTION:Held every Saturday\, at 10 am\, members and prospective members of the Elizabeth Taylor 50-Plus network gather for coffee and community at a local coffee shop. \nTo join us\, contact us at 50plusnetwork@sfaf.org for more information or call 415-728-3116.
URL:https://www.sfaf.org/event/community-coffee-social-elizabeth-taylor-50-plus-network/2027-02-13/
CATEGORIES:Community events
END:VEVENT
BEGIN:VEVENT
DTSTART;TZID=America/Los_Angeles:20270220T100000
DTEND;TZID=America/Los_Angeles:20270220T120000
DTSTAMP:20260422T013647
CREATED:20251125T231206Z
LAST-MODIFIED:20251125T231206Z
UID:10007660-1803117600-1803124800@www.sfaf.org
SUMMARY:Community Coffee Social (Elizabeth Taylor 50-Plus Network)
DESCRIPTION:Held every Saturday\, at 10 am\, members and prospective members of the Elizabeth Taylor 50-Plus network gather for coffee and community at a local coffee shop. \nTo join us\, contact us at 50plusnetwork@sfaf.org for more information or call 415-728-3116.
URL:https://www.sfaf.org/event/community-coffee-social-elizabeth-taylor-50-plus-network/2027-02-20/
CATEGORIES:Community events
END:VEVENT
END:VCALENDAR