BEGIN:VCALENDAR
VERSION:2.0
PRODID:-//San Francisco AIDS Foundation - ECPv6.15.17.1//NONSGML v1.0//EN
CALSCALE:GREGORIAN
METHOD:PUBLISH
X-WR-CALNAME:San Francisco AIDS Foundation
X-ORIGINAL-URL:https://www.sfaf.org
X-WR-CALDESC:Events for San Francisco AIDS Foundation
REFRESH-INTERVAL;VALUE=DURATION:PT1H
X-Robots-Tag:noindex
X-PUBLISHED-TTL:PT1H
BEGIN:VTIMEZONE
TZID:America/Los_Angeles
BEGIN:DAYLIGHT
TZOFFSETFROM:-0800
TZOFFSETTO:-0700
TZNAME:PDT
DTSTART:20250309T100000
END:DAYLIGHT
BEGIN:STANDARD
TZOFFSETFROM:-0700
TZOFFSETTO:-0800
TZNAME:PST
DTSTART:20251102T090000
END:STANDARD
BEGIN:DAYLIGHT
TZOFFSETFROM:-0800
TZOFFSETTO:-0700
TZNAME:PDT
DTSTART:20260308T100000
END:DAYLIGHT
BEGIN:STANDARD
TZOFFSETFROM:-0700
TZOFFSETTO:-0800
TZNAME:PST
DTSTART:20261101T090000
END:STANDARD
BEGIN:DAYLIGHT
TZOFFSETFROM:-0800
TZOFFSETTO:-0700
TZNAME:PDT
DTSTART:20270314T100000
END:DAYLIGHT
BEGIN:STANDARD
TZOFFSETFROM:-0700
TZOFFSETTO:-0800
TZNAME:PST
DTSTART:20271107T090000
END:STANDARD
END:VTIMEZONE
BEGIN:VEVENT
DTSTART;TZID=America/Los_Angeles:20260613T100000
DTEND;TZID=America/Los_Angeles:20260613T120000
DTSTAMP:20260420T115538
CREATED:20251125T231206Z
LAST-MODIFIED:20251125T231206Z
UID:10007624-1781344800-1781352000@www.sfaf.org
SUMMARY:Community Coffee Social (Elizabeth Taylor 50-Plus Network)
DESCRIPTION:Held every Saturday\, at 10 am\, members and prospective members of the Elizabeth Taylor 50-Plus network gather for coffee and community at a local coffee shop. \nTo join us\, contact us at 50plusnetwork@sfaf.org for more information or call 415-728-3116.
URL:https://www.sfaf.org/event/community-coffee-social-elizabeth-taylor-50-plus-network/2026-06-13/
CATEGORIES:Community events
END:VEVENT
BEGIN:VEVENT
DTSTART;TZID=America/Los_Angeles:20260620T100000
DTEND;TZID=America/Los_Angeles:20260620T120000
DTSTAMP:20260420T115538
CREATED:20251125T231206Z
LAST-MODIFIED:20251125T231206Z
UID:10007625-1781949600-1781956800@www.sfaf.org
SUMMARY:Community Coffee Social (Elizabeth Taylor 50-Plus Network)
DESCRIPTION:Held every Saturday\, at 10 am\, members and prospective members of the Elizabeth Taylor 50-Plus network gather for coffee and community at a local coffee shop. \nTo join us\, contact us at 50plusnetwork@sfaf.org for more information or call 415-728-3116.
URL:https://www.sfaf.org/event/community-coffee-social-elizabeth-taylor-50-plus-network/2026-06-20/
CATEGORIES:Community events
END:VEVENT
BEGIN:VEVENT
DTSTART;TZID=America/Los_Angeles:20260624T130000
DTEND;TZID=America/Los_Angeles:20260624T150000
DTSTAMP:20260420T115538
CREATED:20260302T225538Z
LAST-MODIFIED:20260302T225727Z
UID:10008523-1782306000-1782313200@www.sfaf.org
SUMMARY:TransLife Drop-In
DESCRIPTION:TransLife empowers and supports group members with whatever they are going through. We understand that life as a trans woman\, trans man\, or gender-fluid individual can be tough. Our group brings a blend of spirituality\, friendship and community to give the support you need and the family you long for. Come join us. \nQuestions? Email Translife@sfaf.org or call 415-487-8090. \nGroup held at 940 Howard St.
URL:https://www.sfaf.org/event/translife-drop-in-2/2026-06-24/
LOCATION:Calendar Events: SFAF Main Office\, 940 Howard Street\, San Francisco\, CA\, 94103 (SFAF Main Office)
CATEGORIES:Community events
END:VEVENT
BEGIN:VEVENT
DTSTART;TZID=America/Los_Angeles:20260627T100000
DTEND;TZID=America/Los_Angeles:20260627T120000
DTSTAMP:20260420T115538
CREATED:20251125T231206Z
LAST-MODIFIED:20251125T231206Z
UID:10007626-1782554400-1782561600@www.sfaf.org
SUMMARY:Community Coffee Social (Elizabeth Taylor 50-Plus Network)
DESCRIPTION:Held every Saturday\, at 10 am\, members and prospective members of the Elizabeth Taylor 50-Plus network gather for coffee and community at a local coffee shop. \nTo join us\, contact us at 50plusnetwork@sfaf.org for more information or call 415-728-3116.
URL:https://www.sfaf.org/event/community-coffee-social-elizabeth-taylor-50-plus-network/2026-06-27/
CATEGORIES:Community events
END:VEVENT
BEGIN:VEVENT
DTSTART;TZID=America/Los_Angeles:20260704T100000
DTEND;TZID=America/Los_Angeles:20260704T120000
DTSTAMP:20260420T115538
CREATED:20251125T231206Z
LAST-MODIFIED:20251125T231206Z
UID:10007627-1783159200-1783166400@www.sfaf.org
SUMMARY:Community Coffee Social (Elizabeth Taylor 50-Plus Network)
DESCRIPTION:Held every Saturday\, at 10 am\, members and prospective members of the Elizabeth Taylor 50-Plus network gather for coffee and community at a local coffee shop. \nTo join us\, contact us at 50plusnetwork@sfaf.org for more information or call 415-728-3116.
URL:https://www.sfaf.org/event/community-coffee-social-elizabeth-taylor-50-plus-network/2026-07-04/
CATEGORIES:Community events
END:VEVENT
BEGIN:VEVENT
DTSTART;TZID=America/Los_Angeles:20260708T130000
DTEND;TZID=America/Los_Angeles:20260708T150000
DTSTAMP:20260420T115538
CREATED:20260302T225538Z
LAST-MODIFIED:20260302T225727Z
UID:10008524-1783515600-1783522800@www.sfaf.org
SUMMARY:TransLife Drop-In
DESCRIPTION:TransLife empowers and supports group members with whatever they are going through. We understand that life as a trans woman\, trans man\, or gender-fluid individual can be tough. Our group brings a blend of spirituality\, friendship and community to give the support you need and the family you long for. Come join us. \nQuestions? Email Translife@sfaf.org or call 415-487-8090. \nGroup held at 940 Howard St.
URL:https://www.sfaf.org/event/translife-drop-in-2/2026-07-08/
LOCATION:Calendar Events: SFAF Main Office\, 940 Howard Street\, San Francisco\, CA\, 94103 (SFAF Main Office)
CATEGORIES:Community events
END:VEVENT
BEGIN:VEVENT
DTSTART;TZID=America/Los_Angeles:20260711T100000
DTEND;TZID=America/Los_Angeles:20260711T120000
DTSTAMP:20260420T115538
CREATED:20251125T231206Z
LAST-MODIFIED:20251125T231206Z
UID:10007628-1783764000-1783771200@www.sfaf.org
SUMMARY:Community Coffee Social (Elizabeth Taylor 50-Plus Network)
DESCRIPTION:Held every Saturday\, at 10 am\, members and prospective members of the Elizabeth Taylor 50-Plus network gather for coffee and community at a local coffee shop. \nTo join us\, contact us at 50plusnetwork@sfaf.org for more information or call 415-728-3116.
URL:https://www.sfaf.org/event/community-coffee-social-elizabeth-taylor-50-plus-network/2026-07-11/
CATEGORIES:Community events
END:VEVENT
BEGIN:VEVENT
DTSTART;TZID=America/Los_Angeles:20260718T100000
DTEND;TZID=America/Los_Angeles:20260718T120000
DTSTAMP:20260420T115538
CREATED:20251125T231206Z
LAST-MODIFIED:20251125T231206Z
UID:10007629-1784368800-1784376000@www.sfaf.org
SUMMARY:Community Coffee Social (Elizabeth Taylor 50-Plus Network)
DESCRIPTION:Held every Saturday\, at 10 am\, members and prospective members of the Elizabeth Taylor 50-Plus network gather for coffee and community at a local coffee shop. \nTo join us\, contact us at 50plusnetwork@sfaf.org for more information or call 415-728-3116.
URL:https://www.sfaf.org/event/community-coffee-social-elizabeth-taylor-50-plus-network/2026-07-18/
CATEGORIES:Community events
END:VEVENT
BEGIN:VEVENT
DTSTART;TZID=America/Los_Angeles:20260722T130000
DTEND;TZID=America/Los_Angeles:20260722T150000
DTSTAMP:20260420T115538
CREATED:20260302T225538Z
LAST-MODIFIED:20260302T225727Z
UID:10008525-1784725200-1784732400@www.sfaf.org
SUMMARY:TransLife Drop-In
DESCRIPTION:TransLife empowers and supports group members with whatever they are going through. We understand that life as a trans woman\, trans man\, or gender-fluid individual can be tough. Our group brings a blend of spirituality\, friendship and community to give the support you need and the family you long for. Come join us. \nQuestions? Email Translife@sfaf.org or call 415-487-8090. \nGroup held at 940 Howard St.
URL:https://www.sfaf.org/event/translife-drop-in-2/2026-07-22/
LOCATION:Calendar Events: SFAF Main Office\, 940 Howard Street\, San Francisco\, CA\, 94103 (SFAF Main Office)
CATEGORIES:Community events
END:VEVENT
BEGIN:VEVENT
DTSTART;TZID=America/Los_Angeles:20260725T100000
DTEND;TZID=America/Los_Angeles:20260725T120000
DTSTAMP:20260420T115538
CREATED:20251125T231206Z
LAST-MODIFIED:20251125T231206Z
UID:10007630-1784973600-1784980800@www.sfaf.org
SUMMARY:Community Coffee Social (Elizabeth Taylor 50-Plus Network)
DESCRIPTION:Held every Saturday\, at 10 am\, members and prospective members of the Elizabeth Taylor 50-Plus network gather for coffee and community at a local coffee shop. \nTo join us\, contact us at 50plusnetwork@sfaf.org for more information or call 415-728-3116.
URL:https://www.sfaf.org/event/community-coffee-social-elizabeth-taylor-50-plus-network/2026-07-25/
CATEGORIES:Community events
END:VEVENT
BEGIN:VEVENT
DTSTART;TZID=America/Los_Angeles:20260801T100000
DTEND;TZID=America/Los_Angeles:20260801T120000
DTSTAMP:20260420T115538
CREATED:20251125T231206Z
LAST-MODIFIED:20251125T231206Z
UID:10007631-1785578400-1785585600@www.sfaf.org
SUMMARY:Community Coffee Social (Elizabeth Taylor 50-Plus Network)
DESCRIPTION:Held every Saturday\, at 10 am\, members and prospective members of the Elizabeth Taylor 50-Plus network gather for coffee and community at a local coffee shop. \nTo join us\, contact us at 50plusnetwork@sfaf.org for more information or call 415-728-3116.
URL:https://www.sfaf.org/event/community-coffee-social-elizabeth-taylor-50-plus-network/2026-08-01/
CATEGORIES:Community events
END:VEVENT
BEGIN:VEVENT
DTSTART;TZID=America/Los_Angeles:20260808T100000
DTEND;TZID=America/Los_Angeles:20260808T120000
DTSTAMP:20260420T115538
CREATED:20251125T231206Z
LAST-MODIFIED:20251125T231206Z
UID:10007632-1786183200-1786190400@www.sfaf.org
SUMMARY:Community Coffee Social (Elizabeth Taylor 50-Plus Network)
DESCRIPTION:Held every Saturday\, at 10 am\, members and prospective members of the Elizabeth Taylor 50-Plus network gather for coffee and community at a local coffee shop. \nTo join us\, contact us at 50plusnetwork@sfaf.org for more information or call 415-728-3116.
URL:https://www.sfaf.org/event/community-coffee-social-elizabeth-taylor-50-plus-network/2026-08-08/
CATEGORIES:Community events
END:VEVENT
BEGIN:VEVENT
DTSTART;TZID=America/Los_Angeles:20260812T130000
DTEND;TZID=America/Los_Angeles:20260812T150000
DTSTAMP:20260420T115538
CREATED:20260302T225538Z
LAST-MODIFIED:20260302T225727Z
UID:10008526-1786539600-1786546800@www.sfaf.org
SUMMARY:TransLife Drop-In
DESCRIPTION:TransLife empowers and supports group members with whatever they are going through. We understand that life as a trans woman\, trans man\, or gender-fluid individual can be tough. Our group brings a blend of spirituality\, friendship and community to give the support you need and the family you long for. Come join us. \nQuestions? Email Translife@sfaf.org or call 415-487-8090. \nGroup held at 940 Howard St.
URL:https://www.sfaf.org/event/translife-drop-in-2/2026-08-12/
LOCATION:Calendar Events: SFAF Main Office\, 940 Howard Street\, San Francisco\, CA\, 94103 (SFAF Main Office)
CATEGORIES:Community events
END:VEVENT
BEGIN:VEVENT
DTSTART;TZID=America/Los_Angeles:20260815T100000
DTEND;TZID=America/Los_Angeles:20260815T120000
DTSTAMP:20260420T115538
CREATED:20251125T231206Z
LAST-MODIFIED:20251125T231206Z
UID:10007633-1786788000-1786795200@www.sfaf.org
SUMMARY:Community Coffee Social (Elizabeth Taylor 50-Plus Network)
DESCRIPTION:Held every Saturday\, at 10 am\, members and prospective members of the Elizabeth Taylor 50-Plus network gather for coffee and community at a local coffee shop. \nTo join us\, contact us at 50plusnetwork@sfaf.org for more information or call 415-728-3116.
URL:https://www.sfaf.org/event/community-coffee-social-elizabeth-taylor-50-plus-network/2026-08-15/
CATEGORIES:Community events
END:VEVENT
BEGIN:VEVENT
DTSTART;TZID=America/Los_Angeles:20260822T100000
DTEND;TZID=America/Los_Angeles:20260822T120000
DTSTAMP:20260420T115538
CREATED:20251125T231206Z
LAST-MODIFIED:20251125T231206Z
UID:10007634-1787392800-1787400000@www.sfaf.org
SUMMARY:Community Coffee Social (Elizabeth Taylor 50-Plus Network)
DESCRIPTION:Held every Saturday\, at 10 am\, members and prospective members of the Elizabeth Taylor 50-Plus network gather for coffee and community at a local coffee shop. \nTo join us\, contact us at 50plusnetwork@sfaf.org for more information or call 415-728-3116.
URL:https://www.sfaf.org/event/community-coffee-social-elizabeth-taylor-50-plus-network/2026-08-22/
CATEGORIES:Community events
END:VEVENT
BEGIN:VEVENT
DTSTART;TZID=America/Los_Angeles:20260826T130000
DTEND;TZID=America/Los_Angeles:20260826T150000
DTSTAMP:20260420T115538
CREATED:20260302T225538Z
LAST-MODIFIED:20260302T225727Z
UID:10008527-1787749200-1787756400@www.sfaf.org
SUMMARY:TransLife Drop-In
DESCRIPTION:TransLife empowers and supports group members with whatever they are going through. We understand that life as a trans woman\, trans man\, or gender-fluid individual can be tough. Our group brings a blend of spirituality\, friendship and community to give the support you need and the family you long for. Come join us. \nQuestions? Email Translife@sfaf.org or call 415-487-8090. \nGroup held at 940 Howard St.
URL:https://www.sfaf.org/event/translife-drop-in-2/2026-08-26/
LOCATION:Calendar Events: SFAF Main Office\, 940 Howard Street\, San Francisco\, CA\, 94103 (SFAF Main Office)
CATEGORIES:Community events
END:VEVENT
BEGIN:VEVENT
DTSTART;TZID=America/Los_Angeles:20260829T100000
DTEND;TZID=America/Los_Angeles:20260829T120000
DTSTAMP:20260420T115538
CREATED:20251125T231206Z
LAST-MODIFIED:20251125T231206Z
UID:10007635-1787997600-1788004800@www.sfaf.org
SUMMARY:Community Coffee Social (Elizabeth Taylor 50-Plus Network)
DESCRIPTION:Held every Saturday\, at 10 am\, members and prospective members of the Elizabeth Taylor 50-Plus network gather for coffee and community at a local coffee shop. \nTo join us\, contact us at 50plusnetwork@sfaf.org for more information or call 415-728-3116.
URL:https://www.sfaf.org/event/community-coffee-social-elizabeth-taylor-50-plus-network/2026-08-29/
CATEGORIES:Community events
END:VEVENT
BEGIN:VEVENT
DTSTART;TZID=America/Los_Angeles:20260905T100000
DTEND;TZID=America/Los_Angeles:20260905T120000
DTSTAMP:20260420T115538
CREATED:20251125T231206Z
LAST-MODIFIED:20251125T231206Z
UID:10007636-1788602400-1788609600@www.sfaf.org
SUMMARY:Community Coffee Social (Elizabeth Taylor 50-Plus Network)
DESCRIPTION:Held every Saturday\, at 10 am\, members and prospective members of the Elizabeth Taylor 50-Plus network gather for coffee and community at a local coffee shop. \nTo join us\, contact us at 50plusnetwork@sfaf.org for more information or call 415-728-3116.
URL:https://www.sfaf.org/event/community-coffee-social-elizabeth-taylor-50-plus-network/2026-09-05/
CATEGORIES:Community events
END:VEVENT
BEGIN:VEVENT
DTSTART;TZID=America/Los_Angeles:20260909T130000
DTEND;TZID=America/Los_Angeles:20260909T150000
DTSTAMP:20260420T115538
CREATED:20260302T225538Z
LAST-MODIFIED:20260302T225727Z
UID:10008528-1788958800-1788966000@www.sfaf.org
SUMMARY:TransLife Drop-In
DESCRIPTION:TransLife empowers and supports group members with whatever they are going through. We understand that life as a trans woman\, trans man\, or gender-fluid individual can be tough. Our group brings a blend of spirituality\, friendship and community to give the support you need and the family you long for. Come join us. \nQuestions? Email Translife@sfaf.org or call 415-487-8090. \nGroup held at 940 Howard St.
URL:https://www.sfaf.org/event/translife-drop-in-2/2026-09-09/
LOCATION:Calendar Events: SFAF Main Office\, 940 Howard Street\, San Francisco\, CA\, 94103 (SFAF Main Office)
CATEGORIES:Community events
END:VEVENT
BEGIN:VEVENT
DTSTART;TZID=America/Los_Angeles:20260912T100000
DTEND;TZID=America/Los_Angeles:20260912T120000
DTSTAMP:20260420T115538
CREATED:20251125T231206Z
LAST-MODIFIED:20251125T231206Z
UID:10007637-1789207200-1789214400@www.sfaf.org
SUMMARY:Community Coffee Social (Elizabeth Taylor 50-Plus Network)
DESCRIPTION:Held every Saturday\, at 10 am\, members and prospective members of the Elizabeth Taylor 50-Plus network gather for coffee and community at a local coffee shop. \nTo join us\, contact us at 50plusnetwork@sfaf.org for more information or call 415-728-3116.
URL:https://www.sfaf.org/event/community-coffee-social-elizabeth-taylor-50-plus-network/2026-09-12/
CATEGORIES:Community events
END:VEVENT
BEGIN:VEVENT
DTSTART;TZID=America/Los_Angeles:20260919T100000
DTEND;TZID=America/Los_Angeles:20260919T120000
DTSTAMP:20260420T115538
CREATED:20251125T231206Z
LAST-MODIFIED:20251125T231206Z
UID:10007638-1789812000-1789819200@www.sfaf.org
SUMMARY:Community Coffee Social (Elizabeth Taylor 50-Plus Network)
DESCRIPTION:Held every Saturday\, at 10 am\, members and prospective members of the Elizabeth Taylor 50-Plus network gather for coffee and community at a local coffee shop. \nTo join us\, contact us at 50plusnetwork@sfaf.org for more information or call 415-728-3116.
URL:https://www.sfaf.org/event/community-coffee-social-elizabeth-taylor-50-plus-network/2026-09-19/
CATEGORIES:Community events
END:VEVENT
BEGIN:VEVENT
DTSTART;TZID=America/Los_Angeles:20260923T130000
DTEND;TZID=America/Los_Angeles:20260923T150000
DTSTAMP:20260420T115538
CREATED:20260302T225538Z
LAST-MODIFIED:20260302T225727Z
UID:10008529-1790168400-1790175600@www.sfaf.org
SUMMARY:TransLife Drop-In
DESCRIPTION:TransLife empowers and supports group members with whatever they are going through. We understand that life as a trans woman\, trans man\, or gender-fluid individual can be tough. Our group brings a blend of spirituality\, friendship and community to give the support you need and the family you long for. Come join us. \nQuestions? Email Translife@sfaf.org or call 415-487-8090. \nGroup held at 940 Howard St.
URL:https://www.sfaf.org/event/translife-drop-in-2/2026-09-23/
LOCATION:Calendar Events: SFAF Main Office\, 940 Howard Street\, San Francisco\, CA\, 94103 (SFAF Main Office)
CATEGORIES:Community events
END:VEVENT
BEGIN:VEVENT
DTSTART;TZID=America/Los_Angeles:20260926T100000
DTEND;TZID=America/Los_Angeles:20260926T120000
DTSTAMP:20260420T115538
CREATED:20251125T231206Z
LAST-MODIFIED:20251125T231206Z
UID:10007639-1790416800-1790424000@www.sfaf.org
SUMMARY:Community Coffee Social (Elizabeth Taylor 50-Plus Network)
DESCRIPTION:Held every Saturday\, at 10 am\, members and prospective members of the Elizabeth Taylor 50-Plus network gather for coffee and community at a local coffee shop. \nTo join us\, contact us at 50plusnetwork@sfaf.org for more information or call 415-728-3116.
URL:https://www.sfaf.org/event/community-coffee-social-elizabeth-taylor-50-plus-network/2026-09-26/
CATEGORIES:Community events
END:VEVENT
BEGIN:VEVENT
DTSTART;TZID=America/Los_Angeles:20261003T100000
DTEND;TZID=America/Los_Angeles:20261003T120000
DTSTAMP:20260420T115538
CREATED:20251125T231206Z
LAST-MODIFIED:20251125T231206Z
UID:10007640-1791021600-1791028800@www.sfaf.org
SUMMARY:Community Coffee Social (Elizabeth Taylor 50-Plus Network)
DESCRIPTION:Held every Saturday\, at 10 am\, members and prospective members of the Elizabeth Taylor 50-Plus network gather for coffee and community at a local coffee shop. \nTo join us\, contact us at 50plusnetwork@sfaf.org for more information or call 415-728-3116.
URL:https://www.sfaf.org/event/community-coffee-social-elizabeth-taylor-50-plus-network/2026-10-03/
CATEGORIES:Community events
END:VEVENT
BEGIN:VEVENT
DTSTART;TZID=America/Los_Angeles:20261010T100000
DTEND;TZID=America/Los_Angeles:20261010T120000
DTSTAMP:20260420T115538
CREATED:20251125T231206Z
LAST-MODIFIED:20251125T231206Z
UID:10007641-1791626400-1791633600@www.sfaf.org
SUMMARY:Community Coffee Social (Elizabeth Taylor 50-Plus Network)
DESCRIPTION:Held every Saturday\, at 10 am\, members and prospective members of the Elizabeth Taylor 50-Plus network gather for coffee and community at a local coffee shop. \nTo join us\, contact us at 50plusnetwork@sfaf.org for more information or call 415-728-3116.
URL:https://www.sfaf.org/event/community-coffee-social-elizabeth-taylor-50-plus-network/2026-10-10/
CATEGORIES:Community events
END:VEVENT
BEGIN:VEVENT
DTSTART;TZID=America/Los_Angeles:20261014T130000
DTEND;TZID=America/Los_Angeles:20261014T150000
DTSTAMP:20260420T115538
CREATED:20260302T225538Z
LAST-MODIFIED:20260302T225727Z
UID:10008530-1791982800-1791990000@www.sfaf.org
SUMMARY:TransLife Drop-In
DESCRIPTION:TransLife empowers and supports group members with whatever they are going through. We understand that life as a trans woman\, trans man\, or gender-fluid individual can be tough. Our group brings a blend of spirituality\, friendship and community to give the support you need and the family you long for. Come join us. \nQuestions? Email Translife@sfaf.org or call 415-487-8090. \nGroup held at 940 Howard St.
URL:https://www.sfaf.org/event/translife-drop-in-2/2026-10-14/
LOCATION:Calendar Events: SFAF Main Office\, 940 Howard Street\, San Francisco\, CA\, 94103 (SFAF Main Office)
CATEGORIES:Community events
END:VEVENT
BEGIN:VEVENT
DTSTART;TZID=America/Los_Angeles:20261017T100000
DTEND;TZID=America/Los_Angeles:20261017T120000
DTSTAMP:20260420T115538
CREATED:20251125T231206Z
LAST-MODIFIED:20251125T231206Z
UID:10007642-1792231200-1792238400@www.sfaf.org
SUMMARY:Community Coffee Social (Elizabeth Taylor 50-Plus Network)
DESCRIPTION:Held every Saturday\, at 10 am\, members and prospective members of the Elizabeth Taylor 50-Plus network gather for coffee and community at a local coffee shop. \nTo join us\, contact us at 50plusnetwork@sfaf.org for more information or call 415-728-3116.
URL:https://www.sfaf.org/event/community-coffee-social-elizabeth-taylor-50-plus-network/2026-10-17/
CATEGORIES:Community events
END:VEVENT
BEGIN:VEVENT
DTSTART;TZID=America/Los_Angeles:20261024T100000
DTEND;TZID=America/Los_Angeles:20261024T120000
DTSTAMP:20260420T115538
CREATED:20251125T231206Z
LAST-MODIFIED:20251125T231206Z
UID:10007643-1792836000-1792843200@www.sfaf.org
SUMMARY:Community Coffee Social (Elizabeth Taylor 50-Plus Network)
DESCRIPTION:Held every Saturday\, at 10 am\, members and prospective members of the Elizabeth Taylor 50-Plus network gather for coffee and community at a local coffee shop. \nTo join us\, contact us at 50plusnetwork@sfaf.org for more information or call 415-728-3116.
URL:https://www.sfaf.org/event/community-coffee-social-elizabeth-taylor-50-plus-network/2026-10-24/
CATEGORIES:Community events
END:VEVENT
BEGIN:VEVENT
DTSTART;TZID=America/Los_Angeles:20261028T130000
DTEND;TZID=America/Los_Angeles:20261028T150000
DTSTAMP:20260420T115538
CREATED:20260302T225538Z
LAST-MODIFIED:20260302T225727Z
UID:10008531-1793192400-1793199600@www.sfaf.org
SUMMARY:TransLife Drop-In
DESCRIPTION:TransLife empowers and supports group members with whatever they are going through. We understand that life as a trans woman\, trans man\, or gender-fluid individual can be tough. Our group brings a blend of spirituality\, friendship and community to give the support you need and the family you long for. Come join us. \nQuestions? Email Translife@sfaf.org or call 415-487-8090. \nGroup held at 940 Howard St.
URL:https://www.sfaf.org/event/translife-drop-in-2/2026-10-28/
LOCATION:Calendar Events: SFAF Main Office\, 940 Howard Street\, San Francisco\, CA\, 94103 (SFAF Main Office)
CATEGORIES:Community events
END:VEVENT
BEGIN:VEVENT
DTSTART;TZID=America/Los_Angeles:20261031T100000
DTEND;TZID=America/Los_Angeles:20261031T120000
DTSTAMP:20260420T115538
CREATED:20251125T231206Z
LAST-MODIFIED:20251125T231206Z
UID:10007644-1793440800-1793448000@www.sfaf.org
SUMMARY:Community Coffee Social (Elizabeth Taylor 50-Plus Network)
DESCRIPTION:Held every Saturday\, at 10 am\, members and prospective members of the Elizabeth Taylor 50-Plus network gather for coffee and community at a local coffee shop. \nTo join us\, contact us at 50plusnetwork@sfaf.org for more information or call 415-728-3116.
URL:https://www.sfaf.org/event/community-coffee-social-elizabeth-taylor-50-plus-network/2026-10-31/
CATEGORIES:Community events
END:VEVENT
END:VCALENDAR