BEGIN:VCALENDAR
VERSION:2.0
PRODID:-//San Francisco AIDS Foundation - ECPv6.15.17.1//NONSGML v1.0//EN
CALSCALE:GREGORIAN
METHOD:PUBLISH
X-ORIGINAL-URL:https://www.sfaf.org
X-WR-CALDESC:Events for San Francisco AIDS Foundation
REFRESH-INTERVAL;VALUE=DURATION:PT1H
X-Robots-Tag:noindex
X-PUBLISHED-TTL:PT1H
BEGIN:VTIMEZONE
TZID:America/Los_Angeles
BEGIN:DAYLIGHT
TZOFFSETFROM:-0800
TZOFFSETTO:-0700
TZNAME:PDT
DTSTART:20240310T100000
END:DAYLIGHT
BEGIN:STANDARD
TZOFFSETFROM:-0700
TZOFFSETTO:-0800
TZNAME:PST
DTSTART:20241103T090000
END:STANDARD
BEGIN:DAYLIGHT
TZOFFSETFROM:-0800
TZOFFSETTO:-0700
TZNAME:PDT
DTSTART:20250309T100000
END:DAYLIGHT
BEGIN:STANDARD
TZOFFSETFROM:-0700
TZOFFSETTO:-0800
TZNAME:PST
DTSTART:20251102T090000
END:STANDARD
BEGIN:DAYLIGHT
TZOFFSETFROM:-0800
TZOFFSETTO:-0700
TZNAME:PDT
DTSTART:20260308T100000
END:DAYLIGHT
BEGIN:STANDARD
TZOFFSETFROM:-0700
TZOFFSETTO:-0800
TZNAME:PST
DTSTART:20261101T090000
END:STANDARD
BEGIN:DAYLIGHT
TZOFFSETFROM:-0800
TZOFFSETTO:-0700
TZNAME:PDT
DTSTART:20270314T100000
END:DAYLIGHT
BEGIN:STANDARD
TZOFFSETFROM:-0700
TZOFFSETTO:-0800
TZNAME:PST
DTSTART:20271107T090000
END:STANDARD
END:VTIMEZONE
BEGIN:VEVENT
DTSTART;TZID=America/Los_Angeles:20260314T100000
DTEND;TZID=America/Los_Angeles:20260314T120000
DTSTAMP:20260420T132949
CREATED:20251125T231206Z
LAST-MODIFIED:20251125T231206Z
UID:10007611-1773482400-1773489600@www.sfaf.org
SUMMARY:Community Coffee Social (Elizabeth Taylor 50-Plus Network)
DESCRIPTION:Held every Saturday\, at 10 am\, members and prospective members of the Elizabeth Taylor 50-Plus network gather for coffee and community at a local coffee shop. \nTo join us\, contact us at 50plusnetwork@sfaf.org for more information or call 415-728-3116.
URL:https://www.sfaf.org/event/community-coffee-social-elizabeth-taylor-50-plus-network/2026-03-14/
CATEGORIES:Community events
END:VEVENT
BEGIN:VEVENT
DTSTART;TZID=America/Los_Angeles:20260312T160000
DTEND;TZID=America/Los_Angeles:20260312T180000
DTSTAMP:20260420T132949
CREATED:20260227T204201Z
LAST-MODIFIED:20260227T204201Z
UID:10008336-1773331200-1773338400@www.sfaf.org
SUMMARY:Soul Sessions
DESCRIPTION:In honor of Women’s History Month and National Women & Girls’ HIV Awareness Day\, HUES is proud to collaborate with Alameda County Public Health and WORLD to celebrate the strength\, leadership\, and legacy or women in the HIV movement. Together\, we will uplift the stories\, contributions\, and ongoing realities of women and girls impacted by HIV through education\, creativity\, and collective care. \nOur March Soul Sessions will both be held at Alameda County Public Health Department – 1100 San Leandro Blvd. San Leandro\, CA \nRSVP: https://partiful.com/e/TprqMhpy7O4VCEsn5yLp?
URL:https://www.sfaf.org/event/soul-sessions/
LOCATION:Alameda County Public Health Dept.\, 1100 San Leandro Blvd.\, San Leandro\, CA
CATEGORIES:Community events
ATTACH;FMTTYPE=image/jpeg:https://www.sfaf.org/wp-content/uploads/posts/Image-16-1.jpg
END:VEVENT
BEGIN:VEVENT
DTSTART;TZID=America/Los_Angeles:20260311T130000
DTEND;TZID=America/Los_Angeles:20260311T150000
DTSTAMP:20260420T132949
CREATED:20260302T225538Z
LAST-MODIFIED:20260302T225727Z
UID:10008141-1773234000-1773241200@www.sfaf.org
SUMMARY:TransLife Drop-In
DESCRIPTION:TransLife empowers and supports group members with whatever they are going through. We understand that life as a trans woman\, trans man\, or gender-fluid individual can be tough. Our group brings a blend of spirituality\, friendship and community to give the support you need and the family you long for. Come join us. \nQuestions? Email Translife@sfaf.org or call 415-487-8090. \nGroup held at 940 Howard St.
URL:https://www.sfaf.org/event/translife-drop-in-2/2026-03-11/
LOCATION:Calendar Events: SFAF Main Office\, 940 Howard Street\, San Francisco\, CA\, 94103 (SFAF Main Office)
CATEGORIES:Community events
END:VEVENT
BEGIN:VEVENT
DTSTART;TZID=America/Los_Angeles:20260307T100000
DTEND;TZID=America/Los_Angeles:20260307T120000
DTSTAMP:20260420T132949
CREATED:20251125T231206Z
LAST-MODIFIED:20251125T231206Z
UID:10007610-1772877600-1772884800@www.sfaf.org
SUMMARY:Community Coffee Social (Elizabeth Taylor 50-Plus Network)
DESCRIPTION:Held every Saturday\, at 10 am\, members and prospective members of the Elizabeth Taylor 50-Plus network gather for coffee and community at a local coffee shop. \nTo join us\, contact us at 50plusnetwork@sfaf.org for more information or call 415-728-3116.
URL:https://www.sfaf.org/event/community-coffee-social-elizabeth-taylor-50-plus-network/2026-03-07/
CATEGORIES:Community events
END:VEVENT
BEGIN:VEVENT
DTSTART;TZID=America/Los_Angeles:20260228T100000
DTEND;TZID=America/Los_Angeles:20260228T120000
DTSTAMP:20260420T132949
CREATED:20251125T231206Z
LAST-MODIFIED:20251125T231206Z
UID:10007609-1772272800-1772280000@www.sfaf.org
SUMMARY:Community Coffee Social (Elizabeth Taylor 50-Plus Network)
DESCRIPTION:Held every Saturday\, at 10 am\, members and prospective members of the Elizabeth Taylor 50-Plus network gather for coffee and community at a local coffee shop. \nTo join us\, contact us at 50plusnetwork@sfaf.org for more information or call 415-728-3116.
URL:https://www.sfaf.org/event/community-coffee-social-elizabeth-taylor-50-plus-network/2026-02-28/
CATEGORIES:Community events
END:VEVENT
BEGIN:VEVENT
DTSTART;TZID=America/Los_Angeles:20260227T180000
DTEND;TZID=America/Los_Angeles:20260227T210000
DTSTAMP:20260420T132949
CREATED:20260127T235228Z
LAST-MODIFIED:20260127T235228Z
UID:10008233-1772215200-1772226000@www.sfaf.org
SUMMARY:Generations: Black LGBTQIA+ History Experiences
DESCRIPTION:For generations\, Black LGBTQIA+ people have stood at the forefront of resistance leading civil rights struggles\, fueling revolutionary movements for Black power\, and demanding liberation for all. We have always been here\, reshaping the world with our courage\, vision\, and unrelenting fight for justice. \nGenerations 2026 honors this unbroken lineage. Rooted in Legacy\, Rising in Power celebrates the revolutionary spirit of our ancestors while amplifying today’s changemakers who carry the torch forward. This annual gathering unites the Bay Area’s Black LGBTQIA+ community to recognize that our power flows through us from those who fought before and will surge through those who come after. \nThroughout the evening\, we celebrate current luminaries\, the activists\, organizers\, artists\, and visionaries standing on the shoulders of giants while blazing new trails. Their work echoes the fierce determination of Black LGBTQIA+ revolutionaries who demanded that freedom mean freedom for all of us. \nThe night culminates in the spectacular Generations Mini Ball\, where participants compete for cash prizes while showcasing radical self-expression and Black queer excellence on the runway. Our joy\, our beauty\, and our unapologetic existence are acts of resistance. The celebration continues at the Generations Afterparty because our community and our power deserve to be honored all night long. \nJoin us. Honor the legacy. Celebrate our power. \nRSVP Here. \nContributing Partners: \n\nEast Bay Community Foundation\nGlide Memorial Church\nOakland LGBTQ Community Center\nRafiki Coalition / Umoja HAP\nRestorative Justice for Oakland Youth\nSan Francisco Community Health Center\nSan Francisco Department of Public Health\, Office of Health Equity\nSan Francisco LGBT Center\nUCSF’s Pediatric HIV/AIDS Treatment Center
URL:https://www.sfaf.org/event/generations-black-lgbtqia-history-experiences/
LOCATION:Fluid510\, 1544 Broadway\, Oakland\, 94612\, United States
CATEGORIES:Community events
ATTACH;FMTTYPE=image/png:https://www.sfaf.org/wp-content/uploads/events/Generations-2026-promo_calendar.png
END:VEVENT
BEGIN:VEVENT
DTSTART;TZID=America/Los_Angeles:20260221T100000
DTEND;TZID=America/Los_Angeles:20260221T120000
DTSTAMP:20260420T132949
CREATED:20251125T231206Z
LAST-MODIFIED:20251125T231206Z
UID:10007608-1771668000-1771675200@www.sfaf.org
SUMMARY:Community Coffee Social (Elizabeth Taylor 50-Plus Network)
DESCRIPTION:Held every Saturday\, at 10 am\, members and prospective members of the Elizabeth Taylor 50-Plus network gather for coffee and community at a local coffee shop. \nTo join us\, contact us at 50plusnetwork@sfaf.org for more information or call 415-728-3116.
URL:https://www.sfaf.org/event/community-coffee-social-elizabeth-taylor-50-plus-network/2026-02-21/
CATEGORIES:Community events
END:VEVENT
BEGIN:VEVENT
DTSTART;TZID=America/Los_Angeles:20260214T100000
DTEND;TZID=America/Los_Angeles:20260214T120000
DTSTAMP:20260420T132949
CREATED:20251125T231206Z
LAST-MODIFIED:20251125T231206Z
UID:10007607-1771063200-1771070400@www.sfaf.org
SUMMARY:Community Coffee Social (Elizabeth Taylor 50-Plus Network)
DESCRIPTION:Held every Saturday\, at 10 am\, members and prospective members of the Elizabeth Taylor 50-Plus network gather for coffee and community at a local coffee shop. \nTo join us\, contact us at 50plusnetwork@sfaf.org for more information or call 415-728-3116.
URL:https://www.sfaf.org/event/community-coffee-social-elizabeth-taylor-50-plus-network/2026-02-14/
CATEGORIES:Community events
END:VEVENT
BEGIN:VEVENT
DTSTART;TZID=America/Los_Angeles:20260213T183000
DTEND;TZID=America/Los_Angeles:20260213T200000
DTSTAMP:20260420T132949
CREATED:20260129T204217Z
LAST-MODIFIED:20260205T214248Z
UID:10008236-1771007400-1771012800@www.sfaf.org
SUMMARY:"Unexpected" - Film Screening & Community Discussion
DESCRIPTION:In honor of National Black HIV/AIDS Awareness Day\, join us for a special screening of the short film Unexpected\, followed by a community discussion on love\, boundaries\, sexual health\, and HIV prevention. \nUnexpected follows Masonia Traylor and Cici Covin as they create self-care packages for pregnant women recently diagnosed with HIV\, offering them a safe network of support and services during a vulnerable time. This powerful film highlights the experiences of women living with HIV and the resilience they demonstrate in the face of stigma and uncertainty. \nThis evening is an opportunity to come together\, share stories\, and strengthen our commitment to compassionate care and HIV prevention in our community. \nFree and open to all.
URL:https://www.sfaf.org/event/film-screening-community-discussion-unexpected/
LOCATION:Umoja HAP\, 5000 3rd St (Umoja HAP Site)\, San Francisco\, CA\, 94124\, United States
CATEGORIES:Community events
END:VEVENT
BEGIN:VEVENT
DTSTART;TZID=America/Los_Angeles:20260207T100000
DTEND;TZID=America/Los_Angeles:20260207T120000
DTSTAMP:20260420T132949
CREATED:20251125T231206Z
LAST-MODIFIED:20251125T231206Z
UID:10007606-1770458400-1770465600@www.sfaf.org
SUMMARY:Community Coffee Social (Elizabeth Taylor 50-Plus Network)
DESCRIPTION:Held every Saturday\, at 10 am\, members and prospective members of the Elizabeth Taylor 50-Plus network gather for coffee and community at a local coffee shop. \nTo join us\, contact us at 50plusnetwork@sfaf.org for more information or call 415-728-3116.
URL:https://www.sfaf.org/event/community-coffee-social-elizabeth-taylor-50-plus-network/2026-02-07/
CATEGORIES:Community events
END:VEVENT
BEGIN:VEVENT
DTSTART;TZID=America/Los_Angeles:20260206T180000
DTEND;TZID=America/Los_Angeles:20260206T193000
DTSTAMP:20260420T132949
CREATED:20260129T201547Z
LAST-MODIFIED:20260206T093958Z
UID:10008235-1770400800-1770406200@www.sfaf.org
SUMMARY:Loving in Color: Black Gay Men's Art and HIV Resistance
DESCRIPTION:Join us for a powerful evening honoring National Black HIV/AIDS Awareness Day through the creative voices of Black gay men. This celebration of art and activism will feature poetry\, song\, and film that center love\, resilience\, and togetherness in the face of adversity. \nThe evening includes a special screening of Two Black Boys in Paradise\, a groundbreaking UK stop-motion production that’s making waves on the indie film scene. \nCome together for an unforgettable night of community\, creativity\, and resistance.
URL:https://www.sfaf.org/event/loving-in-color-black-gay-mens-art-and-hiv-resistance/
LOCATION:Calendar Events: Strut\, 470 Castro St\, San Francisco\, CA\, 94114 (Strut)
CATEGORIES:Community events,Program groups,Social groups
ATTACH;FMTTYPE=image/jpeg:https://www.sfaf.org/wp-content/uploads/events/Loving-In-Color-9-1.jpg
GEO:37.76135635376;-122.43520355225
X-APPLE-STRUCTURED-LOCATION;VALUE=URI;X-ADDRESS=Calendar Events: Strut 470 Castro St San Francisco CA 94114 (Strut);X-APPLE-RADIUS=500;X-TITLE=470 Castro St:geo:-122.43520355225,37.76135635376
END:VEVENT
BEGIN:VEVENT
DTSTART;TZID=America/Los_Angeles:20260131T100000
DTEND;TZID=America/Los_Angeles:20260131T120000
DTSTAMP:20260420T132949
CREATED:20251125T231206Z
LAST-MODIFIED:20251125T231206Z
UID:10007605-1769853600-1769860800@www.sfaf.org
SUMMARY:Community Coffee Social (Elizabeth Taylor 50-Plus Network)
DESCRIPTION:Held every Saturday\, at 10 am\, members and prospective members of the Elizabeth Taylor 50-Plus network gather for coffee and community at a local coffee shop. \nTo join us\, contact us at 50plusnetwork@sfaf.org for more information or call 415-728-3116.
URL:https://www.sfaf.org/event/community-coffee-social-elizabeth-taylor-50-plus-network/2026-01-31/
CATEGORIES:Community events
END:VEVENT
BEGIN:VEVENT
DTSTART;TZID=America/Los_Angeles:20260124T100000
DTEND;TZID=America/Los_Angeles:20260124T120000
DTSTAMP:20260420T132949
CREATED:20251125T231206Z
LAST-MODIFIED:20251125T231206Z
UID:10007604-1769248800-1769256000@www.sfaf.org
SUMMARY:Community Coffee Social (Elizabeth Taylor 50-Plus Network)
DESCRIPTION:Held every Saturday\, at 10 am\, members and prospective members of the Elizabeth Taylor 50-Plus network gather for coffee and community at a local coffee shop. \nTo join us\, contact us at 50plusnetwork@sfaf.org for more information or call 415-728-3116.
URL:https://www.sfaf.org/event/community-coffee-social-elizabeth-taylor-50-plus-network/2026-01-24/
CATEGORIES:Community events
END:VEVENT
BEGIN:VEVENT
DTSTART;TZID=America/Los_Angeles:20260117T100000
DTEND;TZID=America/Los_Angeles:20260117T120000
DTSTAMP:20260420T132949
CREATED:20251125T231206Z
LAST-MODIFIED:20251125T231206Z
UID:10007603-1768644000-1768651200@www.sfaf.org
SUMMARY:Community Coffee Social (Elizabeth Taylor 50-Plus Network)
DESCRIPTION:Held every Saturday\, at 10 am\, members and prospective members of the Elizabeth Taylor 50-Plus network gather for coffee and community at a local coffee shop. \nTo join us\, contact us at 50plusnetwork@sfaf.org for more information or call 415-728-3116.
URL:https://www.sfaf.org/event/community-coffee-social-elizabeth-taylor-50-plus-network/2026-01-17/
CATEGORIES:Community events
END:VEVENT
BEGIN:VEVENT
DTSTART;TZID=America/Los_Angeles:20260110T100000
DTEND;TZID=America/Los_Angeles:20260110T120000
DTSTAMP:20260420T132949
CREATED:20251125T231206Z
LAST-MODIFIED:20251125T231206Z
UID:10007602-1768039200-1768046400@www.sfaf.org
SUMMARY:Community Coffee Social (Elizabeth Taylor 50-Plus Network)
DESCRIPTION:Held every Saturday\, at 10 am\, members and prospective members of the Elizabeth Taylor 50-Plus network gather for coffee and community at a local coffee shop. \nTo join us\, contact us at 50plusnetwork@sfaf.org for more information or call 415-728-3116.
URL:https://www.sfaf.org/event/community-coffee-social-elizabeth-taylor-50-plus-network/2026-01-10/
CATEGORIES:Community events
END:VEVENT
BEGIN:VEVENT
DTSTART;TZID=America/Los_Angeles:20260103T100000
DTEND;TZID=America/Los_Angeles:20260103T120000
DTSTAMP:20260420T132949
CREATED:20251125T231206Z
LAST-MODIFIED:20251125T231206Z
UID:10007601-1767434400-1767441600@www.sfaf.org
SUMMARY:Community Coffee Social (Elizabeth Taylor 50-Plus Network)
DESCRIPTION:Held every Saturday\, at 10 am\, members and prospective members of the Elizabeth Taylor 50-Plus network gather for coffee and community at a local coffee shop. \nTo join us\, contact us at 50plusnetwork@sfaf.org for more information or call 415-728-3116.
URL:https://www.sfaf.org/event/community-coffee-social-elizabeth-taylor-50-plus-network/2026-01-03/
CATEGORIES:Community events
END:VEVENT
BEGIN:VEVENT
DTSTART;TZID=America/Los_Angeles:20251227T100000
DTEND;TZID=America/Los_Angeles:20251227T120000
DTSTAMP:20260420T132949
CREATED:20251125T231206Z
LAST-MODIFIED:20251125T231206Z
UID:10007600-1766829600-1766836800@www.sfaf.org
SUMMARY:Community Coffee Social (Elizabeth Taylor 50-Plus Network)
DESCRIPTION:Held every Saturday\, at 10 am\, members and prospective members of the Elizabeth Taylor 50-Plus network gather for coffee and community at a local coffee shop. \nTo join us\, contact us at 50plusnetwork@sfaf.org for more information or call 415-728-3116.
URL:https://www.sfaf.org/event/community-coffee-social-elizabeth-taylor-50-plus-network/2025-12-27/
CATEGORIES:Community events
END:VEVENT
BEGIN:VEVENT
DTSTART;TZID=America/Los_Angeles:20251224T140000
DTEND;TZID=America/Los_Angeles:20251224T170000
DTSTAMP:20260420T132949
CREATED:20251125T230849Z
LAST-MODIFIED:20251125T233156Z
UID:10007595-1766584800-1766595600@www.sfaf.org
SUMMARY:Dinner with Friends (Elizabeth Taylor 50-Plus Network)
DESCRIPTION:Elizabeth Taylor 50-Plus Network members will gather for a community meal on December 24\, 2025. \nRSVP is necessary. Contact 50plusnetwork@sfaf.org for more information and to join.
URL:https://www.sfaf.org/event/dinner-with-friends-elizabeth-taylor-50-plus-network/
CATEGORIES:Community events
END:VEVENT
BEGIN:VEVENT
DTSTART;TZID=America/Los_Angeles:20251220T100000
DTEND;TZID=America/Los_Angeles:20251220T120000
DTSTAMP:20260420T132949
CREATED:20251125T231206Z
LAST-MODIFIED:20251125T231206Z
UID:10007599-1766224800-1766232000@www.sfaf.org
SUMMARY:Community Coffee Social (Elizabeth Taylor 50-Plus Network)
DESCRIPTION:Held every Saturday\, at 10 am\, members and prospective members of the Elizabeth Taylor 50-Plus network gather for coffee and community at a local coffee shop. \nTo join us\, contact us at 50plusnetwork@sfaf.org for more information or call 415-728-3116.
URL:https://www.sfaf.org/event/community-coffee-social-elizabeth-taylor-50-plus-network/2025-12-20/
CATEGORIES:Community events
END:VEVENT
BEGIN:VEVENT
DTSTART;TZID=America/Los_Angeles:20251218T173000
DTEND;TZID=America/Los_Angeles:20251218T193000
DTSTAMP:20260420T132949
CREATED:20251212T193016Z
LAST-MODIFIED:20251212T193430Z
UID:10008226-1766079000-1766086200@www.sfaf.org
SUMMARY:Celebrating Life: Joy & Resistance
DESCRIPTION:Join the Elizabeth Taylor 50-Plus Network and PRC for our annual holiday celebration. There will be food\, community\, and joy. \nHeld at San Francisco AIDS Foundation\, 940 Howard St.\, San Francisco. \nRSVP required here. 
URL:https://www.sfaf.org/event/celebrating-life-joy-resistance/
CATEGORIES:Community events
END:VEVENT
BEGIN:VEVENT
DTSTART;TZID=America/Los_Angeles:20251214T120000
DTEND;TZID=America/Los_Angeles:20251214T150000
DTSTAMP:20260420T132949
CREATED:20251125T231727Z
LAST-MODIFIED:20251125T233408Z
UID:10007857-1765713600-1765724400@www.sfaf.org
SUMMARY:TGI Intergenerational Brunch
DESCRIPTION:Intergenerational Brunch is a monthly gathering for transgender\, gender non-conforming\, intersex adults of all ages. Delicious catered meals and karaoke!  \nFor more information\, contact TGI Aging Services and Ivana at (415) 728-3544 or istaiti@sfaf.org.  \n 
URL:https://www.sfaf.org/event/tgi-intergenerational-brunch/
LOCATION:TGI: Openhouse SF\, 75 Laguna St\, San Francisco\, CA\, 94102 (Openhouse SF)
CATEGORIES:Community events
END:VEVENT
BEGIN:VEVENT
DTSTART;TZID=America/Los_Angeles:20251213T100000
DTEND;TZID=America/Los_Angeles:20251213T120000
DTSTAMP:20260420T132949
CREATED:20251125T231206Z
LAST-MODIFIED:20251125T231206Z
UID:10007598-1765620000-1765627200@www.sfaf.org
SUMMARY:Community Coffee Social (Elizabeth Taylor 50-Plus Network)
DESCRIPTION:Held every Saturday\, at 10 am\, members and prospective members of the Elizabeth Taylor 50-Plus network gather for coffee and community at a local coffee shop. \nTo join us\, contact us at 50plusnetwork@sfaf.org for more information or call 415-728-3116.
URL:https://www.sfaf.org/event/community-coffee-social-elizabeth-taylor-50-plus-network/2025-12-13/
CATEGORIES:Community events
END:VEVENT
BEGIN:VEVENT
DTSTART;TZID=America/Los_Angeles:20251212T180000
DTEND;TZID=America/Los_Angeles:20251212T210000
DTSTAMP:20260420T132949
CREATED:20251124T230751Z
LAST-MODIFIED:20251124T230945Z
UID:10006037-1765562400-1765573200@www.sfaf.org
SUMMARY:Kwanzaa Celebration
DESCRIPTION:Join us for an evening of culture\, community\, and celebration! \nThere will be live performances\, Kwanzaa Awards\, a candle lighting ceremony\, food\, fellowship\, and fun. \nWe will honor the Seven Principles of Kwanzaa through music\, storytelling\, art\, and reflection. This joyful gathering will uplift Black excellence and unity while embracing the spirit of collective purpose and creativity. Let’s come together to celebrate our shared heritage. \nFriday\, December 12\, 6 – 9 pm \n1733 Broadway Avenue\, Oakland. \nFree & open to all!
URL:https://www.sfaf.org/event/kwanzaa-celebration/
LOCATION:BBE: RJOY\, 1733 Broadway\, Oakland\, CA 94612 (RJOY)
CATEGORIES:Community events
ATTACH;FMTTYPE=image/png:https://www.sfaf.org/wp-content/uploads/events/Kwanzaa-pic.png
END:VEVENT
BEGIN:VEVENT
DTSTART;TZID=America/Los_Angeles:20251206T100000
DTEND;TZID=America/Los_Angeles:20251206T120000
DTSTAMP:20260420T132949
CREATED:20251125T231206Z
LAST-MODIFIED:20251125T231206Z
UID:10007597-1765015200-1765022400@www.sfaf.org
SUMMARY:Community Coffee Social (Elizabeth Taylor 50-Plus Network)
DESCRIPTION:Held every Saturday\, at 10 am\, members and prospective members of the Elizabeth Taylor 50-Plus network gather for coffee and community at a local coffee shop. \nTo join us\, contact us at 50plusnetwork@sfaf.org for more information or call 415-728-3116.
URL:https://www.sfaf.org/event/community-coffee-social-elizabeth-taylor-50-plus-network/2025-12-06/
CATEGORIES:Community events
END:VEVENT
BEGIN:VEVENT
DTSTART;TZID=America/Los_Angeles:20251205T180000
DTEND;TZID=America/Los_Angeles:20251205T200000
DTSTAMP:20260420T132949
CREATED:20251124T225545Z
LAST-MODIFIED:20251124T225905Z
UID:10006035-1764957600-1764964800@www.sfaf.org
SUMMARY:A Seat at the Red Table
DESCRIPTION:Shared dinner\, spoken word performances\, and a guided fireside-style conversation centering on love\, health\, and healing in the era of HIV.\n\n\n\nA Seat at the Red Table is a World AIDS Day community dinner and conversation hosted by the Black Health Access Point in partnership with Healing & Uniting Every Sista (HUES) at the Umoja Health Access Point (5000 3rd Street\, San Francisco) on Friday\, December 5 at 6:00 PM. \nThe purpose of this event is to center the experiences of the Black community members across San Francisco\, including those living with HIV\, allies\, advocates\, and anyone committed to holistic Black wellness. The evening will feature a shared dinner\, spoken word performances\, and a guided fireside-style conversation centering on love\, health\, and healing in the era of HIV.” \nGuests will engage in open\, stigma-free dialogue about HIV prevention\, treatment\, and care — including PrEP\, U=U\, and harm reduction — while also exploring what trust\, safety\, and connection look like in Black health spaces. \nA Seat at the Red Table aims to: \n\nReduce stigma by normalizing honest community conversations about HIV.\nBuild familiarity and trust with local service providers and health access points.\nCelebrate the strength\, resilience\, and leadership of Black San Franciscans — especially Black women — in the ongoing movement for health equity.\nDinner is complimentary\, and all are welcome to join this evening of nourishment\, storytelling\, and community connection.\n\nRSVP here. 
URL:https://www.sfaf.org/event/a-seat-at-the-red-table/
CATEGORIES:Community events
ATTACH;FMTTYPE=image/jpeg:https://www.sfaf.org/wp-content/uploads/events/A-seat-red-table-.jpeg
END:VEVENT
BEGIN:VEVENT
DTSTART;TZID=America/Los_Angeles:20251201T180000
DTEND;TZID=America/Los_Angeles:20251201T200000
DTSTAMP:20260420T132949
CREATED:20251111T172201Z
LAST-MODIFIED:20251111T172201Z
UID:10006008-1764612000-1764619200@www.sfaf.org
SUMMARY:Holding HIV: Poems of HOPE World AIDS Day Book Launch
DESCRIPTION:On World AIDS Day\, Monday\, December 1\, 2025\, we invite you to the launch of Holding HIV: Poems of HOPE\, a poetry book created by focus group participants and HOPE community members. This project takes HIV and HIV cure research awareness into new circles\, using art as a bridge to science and as a catalyst for dialogue. The event will include networking\, live poetry readings\, a moment of silence\, and discussion on art as activism. Together\, we honor survival\, legacy\, and the possibilities of a cure. \nRegister now.
URL:https://www.sfaf.org/event/holding-hiv-poems-of-hope-world-aids-day-book-launch/
LOCATION:Calendar Events: Strut\, 470 Castro St\, San Francisco\, CA\, 94114 (Strut)
CATEGORIES:Community events
ATTACH;FMTTYPE=image/png:https://www.sfaf.org/wp-content/uploads/events/Holding-Hope-WAD-promo-2025-calendar.png
GEO:37.76135635376;-122.43520355225
X-APPLE-STRUCTURED-LOCATION;VALUE=URI;X-ADDRESS=Calendar Events: Strut 470 Castro St San Francisco CA 94114 (Strut);X-APPLE-RADIUS=500;X-TITLE=470 Castro St:geo:-122.43520355225,37.76135635376
END:VEVENT
BEGIN:VEVENT
DTSTART;TZID=America/Los_Angeles:20251201T143000
DTEND;TZID=America/Los_Angeles:20251201T163000
DTSTAMP:20260420T132949
CREATED:20251118T181725Z
LAST-MODIFIED:20251118T181725Z
UID:10006021-1764599400-1764606600@www.sfaf.org
SUMMARY:Always together: World AIDS Day 2025
DESCRIPTION:Cultural music\, Aztec dancing\, shared food\, altar offerings\, and blessings surrounded by the beauty of the AIDS Memorial Grove \nAll are welcome. \n\nSiempre juntos\nDía Mundial del SIDA 2025 \nAIDS Memorial Grove\nParque Golden Gate \nAcompáñanos en una emotiva reunión que presenta una ceremonia indígena y latina en recuerdo y esperanza. \nDisfruta de música cultural\, baile azteca\, comida compartida\, ofrendas en el altar y bendiciones rodeados de la belleza del Bosque Conmemorativo del SIDA. \nTodo el mundo es bienvenido
URL:https://www.sfaf.org/event/always-together-world-aids-day-2025/
LOCATION:National AIDS Memorial Grove\, Nancy Pelosi Drive & Bowling Green Drive\, San Francisco\, CA\, 94122\, United States
CATEGORIES:Community events
ATTACH;FMTTYPE=image/png:https://www.sfaf.org/wp-content/uploads/events/WAD-2025-Latino-Programs-event_calendar.png
END:VEVENT
BEGIN:VEVENT
DTSTART;TZID=America/Los_Angeles:20251129T100000
DTEND;TZID=America/Los_Angeles:20251129T120000
DTSTAMP:20260420T132949
CREATED:20251125T231206Z
LAST-MODIFIED:20251125T231206Z
UID:10007596-1764410400-1764417600@www.sfaf.org
SUMMARY:Community Coffee Social (Elizabeth Taylor 50-Plus Network)
DESCRIPTION:Held every Saturday\, at 10 am\, members and prospective members of the Elizabeth Taylor 50-Plus network gather for coffee and community at a local coffee shop. \nTo join us\, contact us at 50plusnetwork@sfaf.org for more information or call 415-728-3116.
URL:https://www.sfaf.org/event/community-coffee-social-elizabeth-taylor-50-plus-network/2025-11-29/
CATEGORIES:Community events
END:VEVENT
END:VCALENDAR