BEGIN:VCALENDAR
VERSION:2.0
PRODID:-//San Francisco AIDS Foundation - ECPv6.15.17.1//NONSGML v1.0//EN
CALSCALE:GREGORIAN
METHOD:PUBLISH
X-ORIGINAL-URL:https://www.sfaf.org
X-WR-CALDESC:Events for San Francisco AIDS Foundation
REFRESH-INTERVAL;VALUE=DURATION:PT1H
X-Robots-Tag:noindex
X-PUBLISHED-TTL:PT1H
BEGIN:VTIMEZONE
TZID:America/Los_Angeles
BEGIN:DAYLIGHT
TZOFFSETFROM:-0800
TZOFFSETTO:-0700
TZNAME:PDT
DTSTART:20270314T100000
END:DAYLIGHT
BEGIN:STANDARD
TZOFFSETFROM:-0700
TZOFFSETTO:-0800
TZNAME:PST
DTSTART:20271107T090000
END:STANDARD
BEGIN:DAYLIGHT
TZOFFSETFROM:-0800
TZOFFSETTO:-0700
TZNAME:PDT
DTSTART:20280312T100000
END:DAYLIGHT
BEGIN:STANDARD
TZOFFSETFROM:-0700
TZOFFSETTO:-0800
TZNAME:PST
DTSTART:20281105T090000
END:STANDARD
BEGIN:DAYLIGHT
TZOFFSETFROM:-0800
TZOFFSETTO:-0700
TZNAME:PDT
DTSTART:20290311T100000
END:DAYLIGHT
BEGIN:STANDARD
TZOFFSETFROM:-0700
TZOFFSETTO:-0800
TZNAME:PST
DTSTART:20291104T090000
END:STANDARD
END:VTIMEZONE
BEGIN:VEVENT
DTSTART;TZID=America/Los_Angeles:20280308T130000
DTEND;TZID=America/Los_Angeles:20280308T150000
DTSTAMP:20260422T154330
CREATED:20260302T225538Z
LAST-MODIFIED:20260302T225727Z
UID:10008564-1836133200-1836140400@www.sfaf.org
SUMMARY:TransLife Drop-In
DESCRIPTION:TransLife empowers and supports group members with whatever they are going through. We understand that life as a trans woman\, trans man\, or gender-fluid individual can be tough. Our group brings a blend of spirituality\, friendship and community to give the support you need and the family you long for. Come join us. \nQuestions? Email Translife@sfaf.org or call 415-487-8090. \nGroup held at 940 Howard St.
URL:https://www.sfaf.org/event/translife-drop-in-2/2028-03-08/
LOCATION:Calendar Events: SFAF Main Office\, 940 Howard Street\, San Francisco\, CA\, 94103 (SFAF Main Office)
CATEGORIES:Community events
END:VEVENT
BEGIN:VEVENT
DTSTART;TZID=America/Los_Angeles:20280311T100000
DTEND;TZID=America/Los_Angeles:20280311T120000
DTSTAMP:20260422T154330
CREATED:20251125T231206Z
LAST-MODIFIED:20251125T231206Z
UID:10007715-1836381600-1836388800@www.sfaf.org
SUMMARY:Community Coffee Social (Elizabeth Taylor 50-Plus Network)
DESCRIPTION:Held every Saturday\, at 10 am\, members and prospective members of the Elizabeth Taylor 50-Plus network gather for coffee and community at a local coffee shop. \nTo join us\, contact us at 50plusnetwork@sfaf.org for more information or call 415-728-3116.
URL:https://www.sfaf.org/event/community-coffee-social-elizabeth-taylor-50-plus-network/2028-03-11/
CATEGORIES:Community events
END:VEVENT
BEGIN:VEVENT
DTSTART;TZID=America/Los_Angeles:20280318T100000
DTEND;TZID=America/Los_Angeles:20280318T120000
DTSTAMP:20260422T154330
CREATED:20251125T231206Z
LAST-MODIFIED:20251125T231206Z
UID:10007716-1836986400-1836993600@www.sfaf.org
SUMMARY:Community Coffee Social (Elizabeth Taylor 50-Plus Network)
DESCRIPTION:Held every Saturday\, at 10 am\, members and prospective members of the Elizabeth Taylor 50-Plus network gather for coffee and community at a local coffee shop. \nTo join us\, contact us at 50plusnetwork@sfaf.org for more information or call 415-728-3116.
URL:https://www.sfaf.org/event/community-coffee-social-elizabeth-taylor-50-plus-network/2028-03-18/
CATEGORIES:Community events
END:VEVENT
BEGIN:VEVENT
DTSTART;TZID=America/Los_Angeles:20280322T130000
DTEND;TZID=America/Los_Angeles:20280322T150000
DTSTAMP:20260422T154330
CREATED:20260302T225538Z
LAST-MODIFIED:20260302T225727Z
UID:10008565-1837342800-1837350000@www.sfaf.org
SUMMARY:TransLife Drop-In
DESCRIPTION:TransLife empowers and supports group members with whatever they are going through. We understand that life as a trans woman\, trans man\, or gender-fluid individual can be tough. Our group brings a blend of spirituality\, friendship and community to give the support you need and the family you long for. Come join us. \nQuestions? Email Translife@sfaf.org or call 415-487-8090. \nGroup held at 940 Howard St.
URL:https://www.sfaf.org/event/translife-drop-in-2/2028-03-22/
LOCATION:Calendar Events: SFAF Main Office\, 940 Howard Street\, San Francisco\, CA\, 94103 (SFAF Main Office)
CATEGORIES:Community events
END:VEVENT
BEGIN:VEVENT
DTSTART;TZID=America/Los_Angeles:20280325T100000
DTEND;TZID=America/Los_Angeles:20280325T120000
DTSTAMP:20260422T154330
CREATED:20251125T231206Z
LAST-MODIFIED:20251125T231206Z
UID:10007717-1837591200-1837598400@www.sfaf.org
SUMMARY:Community Coffee Social (Elizabeth Taylor 50-Plus Network)
DESCRIPTION:Held every Saturday\, at 10 am\, members and prospective members of the Elizabeth Taylor 50-Plus network gather for coffee and community at a local coffee shop. \nTo join us\, contact us at 50plusnetwork@sfaf.org for more information or call 415-728-3116.
URL:https://www.sfaf.org/event/community-coffee-social-elizabeth-taylor-50-plus-network/2028-03-25/
CATEGORIES:Community events
END:VEVENT
BEGIN:VEVENT
DTSTART;TZID=America/Los_Angeles:20280401T100000
DTEND;TZID=America/Los_Angeles:20280401T120000
DTSTAMP:20260422T154330
CREATED:20251125T231206Z
LAST-MODIFIED:20251125T231206Z
UID:10007718-1838196000-1838203200@www.sfaf.org
SUMMARY:Community Coffee Social (Elizabeth Taylor 50-Plus Network)
DESCRIPTION:Held every Saturday\, at 10 am\, members and prospective members of the Elizabeth Taylor 50-Plus network gather for coffee and community at a local coffee shop. \nTo join us\, contact us at 50plusnetwork@sfaf.org for more information or call 415-728-3116.
URL:https://www.sfaf.org/event/community-coffee-social-elizabeth-taylor-50-plus-network/2028-04-01/
CATEGORIES:Community events
END:VEVENT
BEGIN:VEVENT
DTSTART;TZID=America/Los_Angeles:20280408T100000
DTEND;TZID=America/Los_Angeles:20280408T120000
DTSTAMP:20260422T154330
CREATED:20251125T231206Z
LAST-MODIFIED:20251125T231206Z
UID:10007719-1838800800-1838808000@www.sfaf.org
SUMMARY:Community Coffee Social (Elizabeth Taylor 50-Plus Network)
DESCRIPTION:Held every Saturday\, at 10 am\, members and prospective members of the Elizabeth Taylor 50-Plus network gather for coffee and community at a local coffee shop. \nTo join us\, contact us at 50plusnetwork@sfaf.org for more information or call 415-728-3116.
URL:https://www.sfaf.org/event/community-coffee-social-elizabeth-taylor-50-plus-network/2028-04-08/
CATEGORIES:Community events
END:VEVENT
BEGIN:VEVENT
DTSTART;TZID=America/Los_Angeles:20280412T130000
DTEND;TZID=America/Los_Angeles:20280412T150000
DTSTAMP:20260422T154330
CREATED:20260302T225538Z
LAST-MODIFIED:20260302T225727Z
UID:10008566-1839157200-1839164400@www.sfaf.org
SUMMARY:TransLife Drop-In
DESCRIPTION:TransLife empowers and supports group members with whatever they are going through. We understand that life as a trans woman\, trans man\, or gender-fluid individual can be tough. Our group brings a blend of spirituality\, friendship and community to give the support you need and the family you long for. Come join us. \nQuestions? Email Translife@sfaf.org or call 415-487-8090. \nGroup held at 940 Howard St.
URL:https://www.sfaf.org/event/translife-drop-in-2/2028-04-12/
LOCATION:Calendar Events: SFAF Main Office\, 940 Howard Street\, San Francisco\, CA\, 94103 (SFAF Main Office)
CATEGORIES:Community events
END:VEVENT
BEGIN:VEVENT
DTSTART;TZID=America/Los_Angeles:20280415T100000
DTEND;TZID=America/Los_Angeles:20280415T120000
DTSTAMP:20260422T154330
CREATED:20251125T231206Z
LAST-MODIFIED:20251125T231206Z
UID:10007720-1839405600-1839412800@www.sfaf.org
SUMMARY:Community Coffee Social (Elizabeth Taylor 50-Plus Network)
DESCRIPTION:Held every Saturday\, at 10 am\, members and prospective members of the Elizabeth Taylor 50-Plus network gather for coffee and community at a local coffee shop. \nTo join us\, contact us at 50plusnetwork@sfaf.org for more information or call 415-728-3116.
URL:https://www.sfaf.org/event/community-coffee-social-elizabeth-taylor-50-plus-network/2028-04-15/
CATEGORIES:Community events
END:VEVENT
BEGIN:VEVENT
DTSTART;TZID=America/Los_Angeles:20280422T100000
DTEND;TZID=America/Los_Angeles:20280422T120000
DTSTAMP:20260422T154330
CREATED:20251125T231206Z
LAST-MODIFIED:20251125T231206Z
UID:10007721-1840010400-1840017600@www.sfaf.org
SUMMARY:Community Coffee Social (Elizabeth Taylor 50-Plus Network)
DESCRIPTION:Held every Saturday\, at 10 am\, members and prospective members of the Elizabeth Taylor 50-Plus network gather for coffee and community at a local coffee shop. \nTo join us\, contact us at 50plusnetwork@sfaf.org for more information or call 415-728-3116.
URL:https://www.sfaf.org/event/community-coffee-social-elizabeth-taylor-50-plus-network/2028-04-22/
CATEGORIES:Community events
END:VEVENT
BEGIN:VEVENT
DTSTART;TZID=America/Los_Angeles:20280426T130000
DTEND;TZID=America/Los_Angeles:20280426T150000
DTSTAMP:20260422T154330
CREATED:20260302T225538Z
LAST-MODIFIED:20260302T225727Z
UID:10008567-1840366800-1840374000@www.sfaf.org
SUMMARY:TransLife Drop-In
DESCRIPTION:TransLife empowers and supports group members with whatever they are going through. We understand that life as a trans woman\, trans man\, or gender-fluid individual can be tough. Our group brings a blend of spirituality\, friendship and community to give the support you need and the family you long for. Come join us. \nQuestions? Email Translife@sfaf.org or call 415-487-8090. \nGroup held at 940 Howard St.
URL:https://www.sfaf.org/event/translife-drop-in-2/2028-04-26/
LOCATION:Calendar Events: SFAF Main Office\, 940 Howard Street\, San Francisco\, CA\, 94103 (SFAF Main Office)
CATEGORIES:Community events
END:VEVENT
BEGIN:VEVENT
DTSTART;TZID=America/Los_Angeles:20280429T100000
DTEND;TZID=America/Los_Angeles:20280429T120000
DTSTAMP:20260422T154330
CREATED:20251125T231206Z
LAST-MODIFIED:20251125T231206Z
UID:10007722-1840615200-1840622400@www.sfaf.org
SUMMARY:Community Coffee Social (Elizabeth Taylor 50-Plus Network)
DESCRIPTION:Held every Saturday\, at 10 am\, members and prospective members of the Elizabeth Taylor 50-Plus network gather for coffee and community at a local coffee shop. \nTo join us\, contact us at 50plusnetwork@sfaf.org for more information or call 415-728-3116.
URL:https://www.sfaf.org/event/community-coffee-social-elizabeth-taylor-50-plus-network/2028-04-29/
CATEGORIES:Community events
END:VEVENT
BEGIN:VEVENT
DTSTART;TZID=America/Los_Angeles:20280506T100000
DTEND;TZID=America/Los_Angeles:20280506T120000
DTSTAMP:20260422T154330
CREATED:20251125T231206Z
LAST-MODIFIED:20251125T231206Z
UID:10007723-1841220000-1841227200@www.sfaf.org
SUMMARY:Community Coffee Social (Elizabeth Taylor 50-Plus Network)
DESCRIPTION:Held every Saturday\, at 10 am\, members and prospective members of the Elizabeth Taylor 50-Plus network gather for coffee and community at a local coffee shop. \nTo join us\, contact us at 50plusnetwork@sfaf.org for more information or call 415-728-3116.
URL:https://www.sfaf.org/event/community-coffee-social-elizabeth-taylor-50-plus-network/2028-05-06/
CATEGORIES:Community events
END:VEVENT
BEGIN:VEVENT
DTSTART;TZID=America/Los_Angeles:20280510T130000
DTEND;TZID=America/Los_Angeles:20280510T150000
DTSTAMP:20260422T154330
CREATED:20260302T225538Z
LAST-MODIFIED:20260302T225727Z
UID:10008568-1841576400-1841583600@www.sfaf.org
SUMMARY:TransLife Drop-In
DESCRIPTION:TransLife empowers and supports group members with whatever they are going through. We understand that life as a trans woman\, trans man\, or gender-fluid individual can be tough. Our group brings a blend of spirituality\, friendship and community to give the support you need and the family you long for. Come join us. \nQuestions? Email Translife@sfaf.org or call 415-487-8090. \nGroup held at 940 Howard St.
URL:https://www.sfaf.org/event/translife-drop-in-2/2028-05-10/
LOCATION:Calendar Events: SFAF Main Office\, 940 Howard Street\, San Francisco\, CA\, 94103 (SFAF Main Office)
CATEGORIES:Community events
END:VEVENT
BEGIN:VEVENT
DTSTART;TZID=America/Los_Angeles:20280513T100000
DTEND;TZID=America/Los_Angeles:20280513T120000
DTSTAMP:20260422T154330
CREATED:20251125T231206Z
LAST-MODIFIED:20251125T231206Z
UID:10007724-1841824800-1841832000@www.sfaf.org
SUMMARY:Community Coffee Social (Elizabeth Taylor 50-Plus Network)
DESCRIPTION:Held every Saturday\, at 10 am\, members and prospective members of the Elizabeth Taylor 50-Plus network gather for coffee and community at a local coffee shop. \nTo join us\, contact us at 50plusnetwork@sfaf.org for more information or call 415-728-3116.
URL:https://www.sfaf.org/event/community-coffee-social-elizabeth-taylor-50-plus-network/2028-05-13/
CATEGORIES:Community events
END:VEVENT
BEGIN:VEVENT
DTSTART;TZID=America/Los_Angeles:20280520T100000
DTEND;TZID=America/Los_Angeles:20280520T120000
DTSTAMP:20260422T154330
CREATED:20251125T231206Z
LAST-MODIFIED:20251125T231206Z
UID:10007725-1842429600-1842436800@www.sfaf.org
SUMMARY:Community Coffee Social (Elizabeth Taylor 50-Plus Network)
DESCRIPTION:Held every Saturday\, at 10 am\, members and prospective members of the Elizabeth Taylor 50-Plus network gather for coffee and community at a local coffee shop. \nTo join us\, contact us at 50plusnetwork@sfaf.org for more information or call 415-728-3116.
URL:https://www.sfaf.org/event/community-coffee-social-elizabeth-taylor-50-plus-network/2028-05-20/
CATEGORIES:Community events
END:VEVENT
BEGIN:VEVENT
DTSTART;TZID=America/Los_Angeles:20280524T130000
DTEND;TZID=America/Los_Angeles:20280524T150000
DTSTAMP:20260422T154330
CREATED:20260302T225538Z
LAST-MODIFIED:20260302T225727Z
UID:10008569-1842786000-1842793200@www.sfaf.org
SUMMARY:TransLife Drop-In
DESCRIPTION:TransLife empowers and supports group members with whatever they are going through. We understand that life as a trans woman\, trans man\, or gender-fluid individual can be tough. Our group brings a blend of spirituality\, friendship and community to give the support you need and the family you long for. Come join us. \nQuestions? Email Translife@sfaf.org or call 415-487-8090. \nGroup held at 940 Howard St.
URL:https://www.sfaf.org/event/translife-drop-in-2/2028-05-24/
LOCATION:Calendar Events: SFAF Main Office\, 940 Howard Street\, San Francisco\, CA\, 94103 (SFAF Main Office)
CATEGORIES:Community events
END:VEVENT
BEGIN:VEVENT
DTSTART;TZID=America/Los_Angeles:20280527T100000
DTEND;TZID=America/Los_Angeles:20280527T120000
DTSTAMP:20260422T154330
CREATED:20251125T231206Z
LAST-MODIFIED:20251125T231206Z
UID:10007726-1843034400-1843041600@www.sfaf.org
SUMMARY:Community Coffee Social (Elizabeth Taylor 50-Plus Network)
DESCRIPTION:Held every Saturday\, at 10 am\, members and prospective members of the Elizabeth Taylor 50-Plus network gather for coffee and community at a local coffee shop. \nTo join us\, contact us at 50plusnetwork@sfaf.org for more information or call 415-728-3116.
URL:https://www.sfaf.org/event/community-coffee-social-elizabeth-taylor-50-plus-network/2028-05-27/
CATEGORIES:Community events
END:VEVENT
BEGIN:VEVENT
DTSTART;TZID=America/Los_Angeles:20280603T100000
DTEND;TZID=America/Los_Angeles:20280603T120000
DTSTAMP:20260422T154330
CREATED:20251125T231206Z
LAST-MODIFIED:20251125T231206Z
UID:10007727-1843639200-1843646400@www.sfaf.org
SUMMARY:Community Coffee Social (Elizabeth Taylor 50-Plus Network)
DESCRIPTION:Held every Saturday\, at 10 am\, members and prospective members of the Elizabeth Taylor 50-Plus network gather for coffee and community at a local coffee shop. \nTo join us\, contact us at 50plusnetwork@sfaf.org for more information or call 415-728-3116.
URL:https://www.sfaf.org/event/community-coffee-social-elizabeth-taylor-50-plus-network/2028-06-03/
CATEGORIES:Community events
END:VEVENT
BEGIN:VEVENT
DTSTART;TZID=America/Los_Angeles:20280610T100000
DTEND;TZID=America/Los_Angeles:20280610T120000
DTSTAMP:20260422T154330
CREATED:20251125T231206Z
LAST-MODIFIED:20251125T231206Z
UID:10007728-1844244000-1844251200@www.sfaf.org
SUMMARY:Community Coffee Social (Elizabeth Taylor 50-Plus Network)
DESCRIPTION:Held every Saturday\, at 10 am\, members and prospective members of the Elizabeth Taylor 50-Plus network gather for coffee and community at a local coffee shop. \nTo join us\, contact us at 50plusnetwork@sfaf.org for more information or call 415-728-3116.
URL:https://www.sfaf.org/event/community-coffee-social-elizabeth-taylor-50-plus-network/2028-06-10/
CATEGORIES:Community events
END:VEVENT
BEGIN:VEVENT
DTSTART;TZID=America/Los_Angeles:20280614T130000
DTEND;TZID=America/Los_Angeles:20280614T150000
DTSTAMP:20260422T154330
CREATED:20260302T225538Z
LAST-MODIFIED:20260302T225727Z
UID:10008570-1844600400-1844607600@www.sfaf.org
SUMMARY:TransLife Drop-In
DESCRIPTION:TransLife empowers and supports group members with whatever they are going through. We understand that life as a trans woman\, trans man\, or gender-fluid individual can be tough. Our group brings a blend of spirituality\, friendship and community to give the support you need and the family you long for. Come join us. \nQuestions? Email Translife@sfaf.org or call 415-487-8090. \nGroup held at 940 Howard St.
URL:https://www.sfaf.org/event/translife-drop-in-2/2028-06-14/
LOCATION:Calendar Events: SFAF Main Office\, 940 Howard Street\, San Francisco\, CA\, 94103 (SFAF Main Office)
CATEGORIES:Community events
END:VEVENT
BEGIN:VEVENT
DTSTART;TZID=America/Los_Angeles:20280617T100000
DTEND;TZID=America/Los_Angeles:20280617T120000
DTSTAMP:20260422T154330
CREATED:20251125T231206Z
LAST-MODIFIED:20251125T231206Z
UID:10007729-1844848800-1844856000@www.sfaf.org
SUMMARY:Community Coffee Social (Elizabeth Taylor 50-Plus Network)
DESCRIPTION:Held every Saturday\, at 10 am\, members and prospective members of the Elizabeth Taylor 50-Plus network gather for coffee and community at a local coffee shop. \nTo join us\, contact us at 50plusnetwork@sfaf.org for more information or call 415-728-3116.
URL:https://www.sfaf.org/event/community-coffee-social-elizabeth-taylor-50-plus-network/2028-06-17/
CATEGORIES:Community events
END:VEVENT
BEGIN:VEVENT
DTSTART;TZID=America/Los_Angeles:20280624T100000
DTEND;TZID=America/Los_Angeles:20280624T120000
DTSTAMP:20260422T154330
CREATED:20251125T231206Z
LAST-MODIFIED:20251125T231206Z
UID:10007730-1845453600-1845460800@www.sfaf.org
SUMMARY:Community Coffee Social (Elizabeth Taylor 50-Plus Network)
DESCRIPTION:Held every Saturday\, at 10 am\, members and prospective members of the Elizabeth Taylor 50-Plus network gather for coffee and community at a local coffee shop. \nTo join us\, contact us at 50plusnetwork@sfaf.org for more information or call 415-728-3116.
URL:https://www.sfaf.org/event/community-coffee-social-elizabeth-taylor-50-plus-network/2028-06-24/
CATEGORIES:Community events
END:VEVENT
BEGIN:VEVENT
DTSTART;TZID=America/Los_Angeles:20280628T130000
DTEND;TZID=America/Los_Angeles:20280628T150000
DTSTAMP:20260422T154330
CREATED:20260302T225538Z
LAST-MODIFIED:20260302T225727Z
UID:10008571-1845810000-1845817200@www.sfaf.org
SUMMARY:TransLife Drop-In
DESCRIPTION:TransLife empowers and supports group members with whatever they are going through. We understand that life as a trans woman\, trans man\, or gender-fluid individual can be tough. Our group brings a blend of spirituality\, friendship and community to give the support you need and the family you long for. Come join us. \nQuestions? Email Translife@sfaf.org or call 415-487-8090. \nGroup held at 940 Howard St.
URL:https://www.sfaf.org/event/translife-drop-in-2/2028-06-28/
LOCATION:Calendar Events: SFAF Main Office\, 940 Howard Street\, San Francisco\, CA\, 94103 (SFAF Main Office)
CATEGORIES:Community events
END:VEVENT
BEGIN:VEVENT
DTSTART;TZID=America/Los_Angeles:20280701T100000
DTEND;TZID=America/Los_Angeles:20280701T120000
DTSTAMP:20260422T154330
CREATED:20251125T231206Z
LAST-MODIFIED:20251125T231206Z
UID:10007731-1846058400-1846065600@www.sfaf.org
SUMMARY:Community Coffee Social (Elizabeth Taylor 50-Plus Network)
DESCRIPTION:Held every Saturday\, at 10 am\, members and prospective members of the Elizabeth Taylor 50-Plus network gather for coffee and community at a local coffee shop. \nTo join us\, contact us at 50plusnetwork@sfaf.org for more information or call 415-728-3116.
URL:https://www.sfaf.org/event/community-coffee-social-elizabeth-taylor-50-plus-network/2028-07-01/
CATEGORIES:Community events
END:VEVENT
BEGIN:VEVENT
DTSTART;TZID=America/Los_Angeles:20280708T100000
DTEND;TZID=America/Los_Angeles:20280708T120000
DTSTAMP:20260422T154330
CREATED:20251125T231206Z
LAST-MODIFIED:20251125T231206Z
UID:10007732-1846663200-1846670400@www.sfaf.org
SUMMARY:Community Coffee Social (Elizabeth Taylor 50-Plus Network)
DESCRIPTION:Held every Saturday\, at 10 am\, members and prospective members of the Elizabeth Taylor 50-Plus network gather for coffee and community at a local coffee shop. \nTo join us\, contact us at 50plusnetwork@sfaf.org for more information or call 415-728-3116.
URL:https://www.sfaf.org/event/community-coffee-social-elizabeth-taylor-50-plus-network/2028-07-08/
CATEGORIES:Community events
END:VEVENT
BEGIN:VEVENT
DTSTART;TZID=America/Los_Angeles:20280712T130000
DTEND;TZID=America/Los_Angeles:20280712T150000
DTSTAMP:20260422T154330
CREATED:20260302T225538Z
LAST-MODIFIED:20260302T225727Z
UID:10008572-1847019600-1847026800@www.sfaf.org
SUMMARY:TransLife Drop-In
DESCRIPTION:TransLife empowers and supports group members with whatever they are going through. We understand that life as a trans woman\, trans man\, or gender-fluid individual can be tough. Our group brings a blend of spirituality\, friendship and community to give the support you need and the family you long for. Come join us. \nQuestions? Email Translife@sfaf.org or call 415-487-8090. \nGroup held at 940 Howard St.
URL:https://www.sfaf.org/event/translife-drop-in-2/2028-07-12/
LOCATION:Calendar Events: SFAF Main Office\, 940 Howard Street\, San Francisco\, CA\, 94103 (SFAF Main Office)
CATEGORIES:Community events
END:VEVENT
BEGIN:VEVENT
DTSTART;TZID=America/Los_Angeles:20280715T100000
DTEND;TZID=America/Los_Angeles:20280715T120000
DTSTAMP:20260422T154330
CREATED:20251125T231206Z
LAST-MODIFIED:20251125T231206Z
UID:10007733-1847268000-1847275200@www.sfaf.org
SUMMARY:Community Coffee Social (Elizabeth Taylor 50-Plus Network)
DESCRIPTION:Held every Saturday\, at 10 am\, members and prospective members of the Elizabeth Taylor 50-Plus network gather for coffee and community at a local coffee shop. \nTo join us\, contact us at 50plusnetwork@sfaf.org for more information or call 415-728-3116.
URL:https://www.sfaf.org/event/community-coffee-social-elizabeth-taylor-50-plus-network/2028-07-15/
CATEGORIES:Community events
END:VEVENT
BEGIN:VEVENT
DTSTART;TZID=America/Los_Angeles:20280722T100000
DTEND;TZID=America/Los_Angeles:20280722T120000
DTSTAMP:20260422T154330
CREATED:20251125T231206Z
LAST-MODIFIED:20251125T231206Z
UID:10007734-1847872800-1847880000@www.sfaf.org
SUMMARY:Community Coffee Social (Elizabeth Taylor 50-Plus Network)
DESCRIPTION:Held every Saturday\, at 10 am\, members and prospective members of the Elizabeth Taylor 50-Plus network gather for coffee and community at a local coffee shop. \nTo join us\, contact us at 50plusnetwork@sfaf.org for more information or call 415-728-3116.
URL:https://www.sfaf.org/event/community-coffee-social-elizabeth-taylor-50-plus-network/2028-07-22/
CATEGORIES:Community events
END:VEVENT
BEGIN:VEVENT
DTSTART;TZID=America/Los_Angeles:20280726T130000
DTEND;TZID=America/Los_Angeles:20280726T150000
DTSTAMP:20260422T154330
CREATED:20260302T225538Z
LAST-MODIFIED:20260302T225727Z
UID:10008573-1848229200-1848236400@www.sfaf.org
SUMMARY:TransLife Drop-In
DESCRIPTION:TransLife empowers and supports group members with whatever they are going through. We understand that life as a trans woman\, trans man\, or gender-fluid individual can be tough. Our group brings a blend of spirituality\, friendship and community to give the support you need and the family you long for. Come join us. \nQuestions? Email Translife@sfaf.org or call 415-487-8090. \nGroup held at 940 Howard St.
URL:https://www.sfaf.org/event/translife-drop-in-2/2028-07-26/
LOCATION:Calendar Events: SFAF Main Office\, 940 Howard Street\, San Francisco\, CA\, 94103 (SFAF Main Office)
CATEGORIES:Community events
END:VEVENT
END:VCALENDAR